Workbook

Sheet 资产评估结果汇总表
A1: 资产评估结果汇总表
A2: 评估基准日：2023年11月13日
A3: =存货—半成品评估明细表!A3 -> 产权持有人：贵州产投高科新型建筑建材科技有限责任公司 | E3: 金额单位：人民币万元
A4: 项目 | C4: 市场价值 | D4: 清算价值 | E4: 备注 | F4: 增减值 | G4: 增值率%
C5: A | F5: C=B-A | G5: D=C/A×100%
A6: 1 | B6: 流动资产
A7: 一、 | B7: 流动资产 | C7: =C8+C9 -> 6106.752 | D7: =D8+D9 -> 19.999 | F7: =D7-C7 -> -6086.753 | G7: =F7/C7*100 -> -99.67251
A8: 1 | B8: 存货—半成品 | C8: =存货—半成品评估明细表!H9 -> 6106.752 | D8: =存货—半成品评估明细表!J9/10000 -> 0.367 | F8: =F7 -> -6086.753 | G8: =G7 -> -99.67251
A9: 2 | B9: 存货—库存商品 | C9: =存货—产成品评估明细表!G39 -> 0 | D9: =存货—产成品评估明细表!J39/10000 -> 19.632 | F9: =F8 -> -6086.753 | G9: =G8 -> -99.67251
A10: 二、 | B10: 非流动资产 | C10: =C11 -> 2768984 | D10: =D11+D12 -> 136.5662 | F10: =F9 -> -6086.753 | G10: =G9 -> -99.67251
A11: 1 | B11: 固定资产 | C11: ='固定资产-机器设备评估明细表'!L27+'固定资产-电子设备评估明细表'!N153 -> 2768984 | D11: ='固定资产-机器设备评估明细表'!R27/10000+'固定资产-电子设备评估明细表'!S153/10000 -> 136.3062 | F11: =F10 -> -6086.753 | G11: =G10 -> -99.67251
A12: 2 | B12: 无形资产 | D12: =无形资产!N9/10000 -> 0.26
A13: 三、 | B13: 资产总计 | C13: =C7+C10 -> 2775090.7 | D13: =D10+D7 -> 156.5652 | F13: =D13-C13 -> -2774934.1 | G13: =F13/C13*100 -> -99.994358
A14: 评估机构：重庆谛威资产评估房地产土地估价有限公司 | D14: =存货—半成品评估明细表!I10 -> 评估人员：康永军、张力、张黎、高攀、吴培

Sheet 存货—半成品评估明细表
A1: 存货—半成品评估明细表
H2: 评估基准日：2023年11月13日
A3: 产权持有人：贵州产投高科新型建筑建材科技有限责任公司 | M3: 人民币：元
A4: 序号 | B4: 名称 | C4: 规格型号 | D4: 数量 | E4: 计量单位 | F4: 生产日期 | G4: 账面价值 | H4: 市场价值 | I4: 变现率 | J4: 清算价值 | K4: 增减值 | L4: 增值率 | M4: 备注
A5: 1 | B5: 墙板 | C5: 3000*600*120 | D5: =28*3+2+10+11 -> 107 | E5: 块 | F5: 2019年6月 | H5: 5546.88 | I5: 0.6 | J5: =ROUND(H5*I5,-1) -> 3330 | K5: =H5-G5 -> 5546.88 | L5: =K5/G5 -> #DIV/0! | M5: 处于预养护阶段，尚未质检拆模、清洁上油
A6: 2 | B6: 墙板 | C6: 2700*600*120 | D6: =5+3+2+2 -> 12 | E6: 块 | F6: 2019年6月 | H6: 559.872 | I6: 0.6 | J6: =ROUND(H6*I6,-1) -> 340 | K6: =H6-G6 -> 559.872 | L6: =K6/G6 -> #DIV/0! | M6: 处于预养护阶段，尚未质检拆模、清洁上油
A9: 合计 | D9: =SUM(D5:D8) -> 119 | H9: =SUM(H5:H8) -> 6106.752 | J9: =SUM(J5:J8) -> 3670 | K9: =SUM(K5:K8) -> 6106.752 | L9: =K9/G9 -> #DIV/0!
A10: 填表人：冯军 | I10: 评估人员：康永军、张力、张黎、高攀、吴培
A11: 填表日期：2024-4-8

Sheet 存货—产成品评估明细表
A1: 存货—库存商品评估明细表
H2: 评估基准日：2023年11月13日
A3: 产权持有人：贵州产投高科新型建筑建材科技有限责任公司 | M3: 人民币：元
A4: 序号 | B4: 名称 | C4: 规格型号 | D4: 数量 | E4: 计量单位 | F4: 生产日期 | G4: 账面价值 | H4: 市场价值 | I4: 变现率 | J4: 清算价值 | K4: 增减值 | L4: 增值率 | M4: 备注
A5: 1 | B5: 墙板 | C5: 3000*600*120 | D5: =55*4 -> 220 | E5: 块 | F5: 43577 | H5: 12672 | I5: 0.6 | J5: =ROUND(H5*I5,-1) -> 7600 | K5: =H5-G5 -> 12672 | L5: =K5/G5 -> #DIV/0! | M5: 存放在厂房内
A6: 2 | B6: 墙板 | C6: 3000*600*120 | D6: =55*4 -> 220 | E6: 块 | F6: 43577 | H6: 12672 | I6: 0.6 | J6: =ROUND(H6*I6,-1) -> 7600 | K6: =H6-G6 -> 12672 | L6: =K6/G6 -> #DIV/0! | M6: 存放在厂房内
A7: 3 | B7: 墙板 | C7: 3000*600*120 | D7: 50 | E7: 块 | F7: 43577 | H7: 2880 | I7: 0.6 | J7: =ROUND(H7*I7,-1) -> 1730 | K7: =H7-G7 -> 2880 | L7: =K7/G7 -> #DIV/0! | M7: 存放在厂房内
A8: 4 | B8: 墙板 | C8: 3000*600*120 | D8: 4 | E8: 块 | F8: 43577 | H8: 230.4 | I8: 0.6 | J8: =ROUND(H8*I8,-1) -> 140 | K8: =H8-G8 -> 230.4 | L8: =K8/G8 -> #DIV/0! | M8: 存放在厂房内
A9: 5 | B9: 墙板 | C9: 3000*600*120 | D9: 75 | E9: 块 | F9: 43577 | H9: 4320 | I9: 0.6 | J9: =ROUND(H9*I9,-1) -> 2590 | K9: =H9-G9 -> 4320 | L9: =K9/G9 -> #DIV/0! | M9: 存放在厂房内
A10: 6 | B10: 墙板 | C10: 3000*600*120 | D10: 49 | E10: 块 | F10: 43577 | H10: 2822.4 | I10: 0.6 | J10: =ROUND(H10*I10,-1) -> 1690 | K10: =H10-G10 -> 2822.4 | L10: =K10/G10 -> #DIV/0! | M10: 存放在厂房内
A11: 7 | B11: 墙板 | C11: 3000*600*92 | D11: =56*4+6 -> 230 | E11: 块 | F11: 43060 | H11: 13248 | I11: 0.6 | J11: =ROUND(H11*I11,-1) -> 7950 | K11: =H11-G11 -> 13248 | L11: =K11/G11 -> #DIV/0! | M11: 存放在厂房内
A12: 8 | B12: 墙板 | C12: 3000*600*120 | D12: 9 | E12: 块 | F12: 43590 | H12: 518.4 | I12: 0.6 | J12: =ROUND(H12*I12,-1) -> 310 | K12: =H12-G12 -> 518.4 | L12: =K12/G12 -> #DIV/0! | M12: 存放在厂房内
A13: 9 | B13: 墙板 | C13: 3000*600*120 | D13: 5 | E13: 块 | F13: 43510 | H13: 288 | I13: 0.6 | J13: =ROUND(H13*I13,-1) -> 170 | K13: =H13-G13 -> 288 | L13: =K13/G13 -> #DIV/0! | M13: 存放在厂房内
A14: 10 | B14: 墙板 | C14: 2700*600*120 | D14: 8 | E14: 块 | F14: 43497 | H14: 414.72 | I14: 0.6 | J14: =ROUND(H14*I14,-1) -> 250 | K14: =H14-G14 -> 414.72 | L14: =K14/G14 -> #DIV/0! | M14: 存放在厂房内
A15: 11 | B15: 墙板 | C15: 3000*600*92 | D15: =60*3+53 -> 233 | E15: 块 | F15: 43067 | H15: 13420.8 | I15: 0.6 | J15: =ROUND(H15*I15,-1) -> 8050 | K15: =H15-G15 -> 13420.8 | L15: =K15/G15 -> #DIV/0! | M15: 存放在厂房内
A16: 12 | B16: 墙板 | C16: 3000*600*120 | D16: 19 | E16: 块 | F16: 43395 | H16: 1094.4 | I16: 0.6 | J16: =ROUND(H16*I16,-1) -> 660 | K16: =H16-G16 -> 1094.4 | L16: =K16/G16 -> #DIV/0! | M16: 存放在厂房内
A17: 13 | B17: 墙板 | C17: 2700*600*120 | D17: 5 | E17: 块 | F17: 43191 | H17: 259.2 | I17: 0.6 | J17: =ROUND(H17*I17,-1) -> 160 | K17: =H17-G17 -> 259.2 | L17: =K17/G17 -> #DIV/0! | M17: 存放在厂房内
A18: 14 | B18: 墙板 | C18: 3000*600*120 | D18: 10 | E18: 块 | F18: 43562 | H18: 576 | I18: 0.6 | J18: =ROUND(H18*I18,-1) -> 350 | K18: =H18-G18 -> 576 | L18: =K18/G18 -> #DIV/0! | M18: 存放在厂房内
A19: 15 | B19: 墙板 | C19: 3000*600*92 | D19: 90 | E19: 块 | F19: 43068 | H19: 5184 | I19: 0.6 | J19: =ROUND(H19*I19,-1) -> 3110 | K19: =H19-G19 -> 5184 | L19: =K19/G19 -> #DIV/0! | M19: 存放在厂房内
A20: 16 | B20: 墙板 | C20: 2700*600*120 | D20: 85 | E20: 块 | F20: 43199 | H20: 4406.4 | I20: 0.6 | J20: =ROUND(H20*I20,-1) -> 2640 | K20: =H20-G20 -> 4406.4 | L20: =K20/G20 -> #DIV/0! | M20: 存放在厂房内
A21: 17 | B21: 墙板 | C21: 3000*600*120 | D21: 93 | E21: 块 | F21: 43432 | H21: 5356.8 | I21: 0.6 | J21: =ROUND(H21*I21,-1) -> 3210 | K21: =H21-G21 -> 5356.8 | L21: =K21/G21 -> #DIV/0! | M21: 存放在厂房内
A22: 18 | B22: 墙板 | C22: 2700*600*120 | D22: 10 | E22: 块 | F22: 43558 | H22: 518.4 | I22: 0.6 | J22: =ROUND(H22*I22,-1) -> 310 | K22: =H22-G22 -> 518.4 | L22: =K22/G22 -> #DIV/0! | M22: 存放在厂房内
A23: 19 | B23: 墙板 | C23: 3000*600*92 | D23: =66*3+25 -> 223 | E23: 块 | F23: 43052 | H23: 12844.8 | I23: 0.6 | J23: =ROUND(H23*I23,-1) -> 7710 | K23: =H23-G23 -> 12844.8 | L23: =K23/G23 -> #DIV/0! | M23: 存放在厂房内
A24: 20 | B24: 墙板 | C24: 3000*600*92 | D24: =66*3+60 -> 258 | E24: 块 | F24: 43068 | H24: 14860.8 | I24: 0.6 | J24: =ROUND(H24*I24,-1) -> 8920 | K24: =H24-G24 -> 14860.8 | L24: =K24/G24 -> #DIV/0! | M24: 存放在厂房内
A25: 21 | B25: 墙板 | C25: 3000*600*120 | D25: 153 | E25: 块 | F25: 43647 | H25: 8812.8 | I25: 0.6 | J25: =ROUND(H25*I25,-1) -> 5290 | K25: =H25-G25 -> 8812.8 | L25: =K25/G25 -> #DIV/0! | M25: 存放在厂房内
A26: 22 | B26: 墙板 | C26: 3000*600*120 | D26: 139 | E26: 块 | F26: 43641 | H26: 8006.4 | I26: 0.6 | J26: =ROUND(H26*I26,-1) -> 4800 | K26: =H26-G26 -> 8006.4 | L26: =K26/G26 -> #DIV/0! | M26: 存放在厂房内
A27: 23 | B27: 墙板 | C27: 3000*600*120 | D27: =16*5-2 -> 78 | E27: 块 | F27: 43627 | H27: 4492.8 | I27: 0.6 | J27: =ROUND(H27*I27,-1) -> 2700 | K27: =H27-G27 -> 4492.8 | L27: =K27/G27 -> #DIV/0! | M27: 存放在厂房内
A28: 24 | B28: 墙板 | C28: 2700*600*92 | D28: =23*6+128 -> 266 | E28: 块 | F28: 43199 | H28: 13789.44 | I28: 0.6 | J28: =ROUND(H28*I28,-1) -> 8270 | K28: =H28-G28 -> 13789.44 | L28: =K28/G28 -> #DIV/0! | M28: 存放在厂房内
A29: 25 | B29: 墙板 | C29: 3000*600*92 | D29: 9 | E29: 块 | F29: 43627 | H29: 518.4 | I29: 0.6 | J29: =ROUND(H29*I29,-1) -> 310 | K29: =H29-G29 -> 518.4 | L29: =K29/G29 -> #DIV/0! | M29: 存放在厂房内
A30: 26 | B30: 墙板 | C30: 2770*600*92 | D30: =162*3-1 -> 485 | E30: 块 | F30: 43203 | H30: 25794.24 | I30: 0.6 | J30: =ROUND(H30*I30,-1) -> 15480 | K30: =H30-G30 -> 25794.24 | L30: =K30/G30 -> #DIV/0! | M30: 存放在厂房内
A31: 27 | B31: 墙板 | C31: 3000*600*92 | D31: 168 | E31: 块 | F31: 43068 | H31: 9676.8 | I31: 0.6 | J31: =ROUND(H31*I31,-1) -> 5810 | K31: =H31-G31 -> 9676.8 | L31: =K31/G31 -> #DIV/0! | M31: 存放在厂房内
A32: 28 | B32: 墙板 | C32: 3000*600*92 | D32: =114+77 -> 191 | E32: 块 | F32: 43056 | H32: 11001.6 | I32: 0.6 | J32: =ROUND(H32*I32,-1) -> 6600 | K32: =H32-G32 -> 11001.6 | L32: =K32/G32 -> #DIV/0! | M32: 存放在厂房内
A33: 29 | B33: 墙板 | C33: 3000*600*92 | D33: 220 | E33: 块 | F33: 43031 | H33: 12672 | I33: 0.6 | J33: =ROUND(H33*I33,-1) -> 7600 | K33: =H33-G33 -> 12672 | L33: =K33/G33 -> #DIV/0! | M33: 存放在厂房内
A34: 30 | B34: 墙板 | C34: 3000*600*120 | D34: 350 | E34: 块 | F34: 43644 | H34: 20160 | I34: 0.6 | J34: =ROUND(H34*I34,-1) -> 12100 | K34: =H34-G34 -> 20160 | L34: =K34/G34 -> #DIV/0! | M34: 存放在厂房内
A35: 31 | B35: 墙板 | C35: 3000*600*120 | D35: =19*5*4*2 -> 760 | E35: 块 | F35: 43619 | H35: 43776 | I35: 0.6 | J35: =ROUND(H35*I35,-1) -> 26270 | K35: =H35-G35 -> 43776 | L35: =K35/G35 -> #DIV/0! | M35: 存放在厂房内
A36: 32 | B36: 墙板 | C36: 3000*600*120 | D36: =18*5*4*2 -> 720 | E36: 块 | F36: 43600 | H36: 41472 | I36: 0.6 | J36: =ROUND(H36*I36,-1) -> 24880 | K36: =H36-G36 -> 41472 | L36: =K36/G36 -> #DIV/0! | M36: 存放在厂房内
A37: 33 | B37: 墙板 | C37: 3000*600*120 | D37: =16*5*4 -> 320 | E37: 块 | F37: 43598 | H37: 18432 | I37: 0.6 | J37: =ROUND(H37*I37,-1) -> 11060 | K37: =H37-G37 -> 18432 | L37: =K37/G37 -> #DIV/0! | M37: 存放在厂房内
A39: 合计 | D39: =SUM(D5:D38) -> 5755 | G39: =SUM(G5:G38) -> 0 | H39: =SUM(H5:H38) -> 327192 | J39: =SUM(J5:J38) -> 196320 | K39: =SUM(K5:K38) -> 327192 | L39: =K39/G39 -> #DIV/0!
A40: 填表人：冯军 | I40: 评估人员：康永军、张力、张黎、高攀、吴培
A41: 填表日期：2024-4-8

Sheet 固定资产-机器设备评估明细表
A1: 机器设备评估明细表
K2: 评估基准日：2023年11月13日 | M2: 评估基准日：2023年11月13日
A3: 产权持有人：贵州产投高科新型建筑建材科技有限责任公司 | V3: 人民币：元
A4: 序号 | B4: 资产编码 | C4: 资产名称 | D4: 规格 | E4: 账面数量 | F4: 计量单位 | G4: 资产类别 | H4: 开始使用日期 | I4: 使用月限 | J4: 已计提期数 | K4: 账面价值 | M4: 盘点数量 | N4: 市场价值 | Q4: 变现率 | R4: 清算价值 | S4: 增减值 | T4: 增值率 | U4: 使用部门 | V4: 备注
K5: 原值 | L5: 净值 | N5: 原值 | O5: 成新率 | P5: 净值
A6: 1 | B6: 02990017 | C6: 地磅 | D6: 数字式电子汽车衡 | E6: 1 | F6: 台 | G6: 机器设备 | H6: 2016-12-09 | I6: 240 | J6: 84 | K6: 36410.26 | L6: 11687.71 | M6: 0 | U6: 墙板生产线 | V6: 盘亏
A7: 2 | B7: 02030006 | C7: ACOTECRRO生产线 | D7: 搅拌、料斗、挤出、切割、修边、堆垛 | E7: 1 | F7: 条 | G7: 机器设备 | H7: 2017-02-23 | I7: 120 | J7: 82 | K7: 7029540 | L7: 2370126.6 | M7: 1 | N7: 4500000 | O7: 0.42 | P7: 1890000 | Q7: 0.5 | R7: =ROUND(P7*Q7,-1) -> 945000 | U7: 墙板生产线 | V7: 闲置
A8: 3 | B8: 030002 | C8: 电动叉车 | D8: CPD型135 | E8: 2 | F8: 台 | G8: 运输设备 | H8: 2017-02-23 | I8: 60 | J8: 60 | K8: 177012 | L8: 5310.36 | M8: 2 | N8: 159616 | O8: 0.48 | P8: =ROUND(N8*O8,-1) -> 76620 | Q8: 0.5 | R8: =ROUND(P8*Q8,-1) -> 38310 | U8: 墙板生产线 | V8: 闲置
A9: 4 | B9: 02030007 | C9: 螺杆式空压机 | D9: SF15-8 | E9: 1 | F9: 台 | G9: 机器设备 | H9: 2017-02-23 | I9: 120 | J9: 82 | K9: 28111.3 | L9: 9478.33 | M9: 1 | N9: 31800 | O9: 0.5 | P9: =ROUND(N9*O9,-1) -> 15900 | Q9: 0.5 | R9: =ROUND(P9*Q9,-1) -> 7950 | U9: 墙板生产线 | V9: 闲置
A10: 5 | B10: 030003 | C10: 安装辅助车 | E10: 2 | F10: 台 | G10: 运输设备 | H10: 2017-02-23 | I10: 60 | J10: 60 | K10: 5721.24 | L10: 171.64 | M10: 2 | N10: 5200 | O10: 0.43 | P10: =ROUND(N10*O10,-1) -> 2240 | Q10: 0.5 | R10: =ROUND(P10*Q10,-1) -> 1120 | U10: 墙板生产线 | V10: 闲置
A11: 6 | B11: 02990018 | C11: 底模 | D11: Pl5.0*680*3000 | E11: 200 | F11: 个 | G11: 机器设备 | H11: 2017-04-03 | I11: 120 | J11: 80 | K11: 108793.05 | L11: 38440.25 | M11: 200 | N11: 35088 | O11: 0.61 | P11: =ROUND(N11*O11,-1) -> 21400 | Q11: 0.5 | R11: =ROUND(P11*Q11,-1) -> 10700 | U11: 墙板生产线 | V11: 闲置
A12: 7 | B12: 02990019 | C12: 托盘 | D12: 120*600*3300 | E12: 40 | F12: 个 | G12: 机器设备 | H12: 2017-04-03 | I12: 120 | J12: 80 | K12: 41929.91 | L12: 14815.36 | M12: 40 | N12: 5440 | O12: 0.61 | P12: =ROUND(N12*O12,-1) -> 3320 | Q12: 0.5 | R12: =ROUND(P12*Q12,-1) -> 1660 | U12: 墙板生产线 | V12: 闲置
A13: 8 | B13: 02990020 | C13: 景观墙立柱 | D13: HW125*125*1300 | E13: 9 | F13: 个 | G13: 机器设备 | H13: 2017-04-03 | I13: 120 | J13: 80 | K13: 3846.15 | L13: 1358.95 | M13: 10 | N13: 2850 | O13: 0.44 | P13: =ROUND(N13*O13,-1) -> 1250 | Q13: 0.5 | R13: =ROUND(P13*Q13,-1) -> 630 | U13: 墙板生产线 | V13: 闲置，1个盘盈
A14: 9 | B14: 02010001 | C14: T型设备 | D14: 90型 | E14: 1 | F14: 台 | G14: 机器设备 | H14: 2017-06-14 | I14: 120 | J14: 78 | K14: 12820.51 | L14: 4737.35 | M14: 0 | U14: 墙板生产线 | V14: 盘亏
A15: 10 | B15: 02010002 | C15: L型设备 | D15: 90型 | E15: 1 | F15: 台 | G15: 机器设备 | H15: 2017-06-14 | I15: 120 | J15: 78 | K15: 12820.51 | L15: 4737.35 | M15: 0 | U15: 墙板生产线 | V15: 盘亏
A16: 11 | B16: 02990021 | C16: 底模 | D16: 610*3000 直径4 | E16: 300 | F16: 个 | G16: 机器设备 | H16: 2017-06-22 | I16: 120 | J16: 78 | K16: 171178.35 | L16: 64719.64 | M16: 300 | N16: 47214 | O16: 0.62 | P16: =ROUND(N16*O16,-1) -> 29270 | Q16: 0.5 | R16: =ROUND(P16*Q16,-1) -> 14640 | U16: 墙板生产线 | V16: 闲置
A17: 12 | B17: 02990022 | C17: 托盘 | D17: 120*660*3300 | E17: 60 | F17: 个 | G17: 机器设备 | H17: 2017-06-22 | I17: 120 | J17: 78 | K17: 55555.55 | L17: 20527.88 | M17: 60 | N17: 8160 | O17: 0.62 | P17: =ROUND(N17*O17,-1) -> 5060 | Q17: 0.5 | R17: =ROUND(P17*Q17,-1) -> 2530 | U17: 墙板生产线 | V17: 闲置
A18: 13 | B18: 040109 | C18: ZQS智能切割机 | D18: ZQS400 | E18: 1 | F18: 台 | G18: 机器设备 | H18: 2017-08-02 | I18: 36 | J18: 36 | K18: 2564.1 | L18: 0 | M18: 1 | N18: 2700 | O18: 0.6 | P18: =ROUND(N18*O18,-1) -> 1620 | Q18: 0.5 | R18: =ROUND(P18*Q18,-1) -> 810 | U18: 墙板生产线 | V18: 闲置
A19: 14 | B19: 030004 | C19: 叉车 | D19: 2吨2吨 | E19: 1 | F19: 台 | G19: 运输设备 | H19: 2017-08-02 | I19: 60 | J19: 60 | K19: 1000 | L19: 30 | M19: 1 | N19: 810 | O19: 0.49 | P19: =ROUND(N19*O19,-1) -> 400 | Q19: 0.5 | R19: =ROUND(P19*Q19,-1) -> 200 | U19: 墙板生产线 | V19: 闲置
A20: 15 | B20: 030005 | C20: 叉车 | D20: 2吨2吨 | E20: 1 | F20: 台 | G20: 运输设备 | H20: 2017-08-02 | I20: 60 | J20: 60 | K20: 1000 | L20: 30 | M20: 1 | N20: 810 | O20: 0.31 | P20: =ROUND(N20*O20,-1) -> 250 | Q20: 0.5 | R20: =ROUND(P20*Q20,-1) -> 130 | U20: 墙板生产线 | V20: 已坏
A21: 16 | B21: 030006 | C21: 柳工装载机 | D21: CLG855N | E21: 1 | F21: 台 | G21: 运输设备 | H21: 2019-08-05 | I21: 60 | J21: 52 | K21: 323008.85 | L21: 51466.13 | M21: 1 | N21: 335000 | O21: 0.62 | P21: =ROUND(N21*O21,-1) -> 207700 | Q21: 0.5 | R21: =ROUND(P21*Q21,-1) -> 103850 | U21: 混凝土生产线 | V21: 闲置
A22: 17 | B22: 030007 | C22: 柳工牌装载机 | D22: CLG856H | E22: 1 | F22: 台 | G22: 运输设备 | H22: 2020-04-22 | I22: 60 | J22: 44 | K22: 380530.97 | L22: 109846.63 | M22: 1 | N22: 415000 | O22: 0.64 | P22: =ROUND(N22*O22,-1) -> 265600 | Q22: 0.5 | R22: =ROUND(P22*Q22,-1) -> 132800 | U22: 混凝土生产线 | V22: 闲置
A23: 18 | B23: 02990016 | C23: 墙板线附属设施 | D23: B650*19 | E23: 1 | F23: 套 | G23: 机器设备 | H23: 2016-10-01 | I23: 120 | J23: 86 | K23: 199999.99 | L23: 60966.67 | M23: 0 | U23: 墙板生产线 | V23: 盘亏
A24: 19 | B24: 0103000001 | C24: 发电机及配套工程 | D24: XM-7660 | E24: 1 | F24: 套 | G24: 机器设备 | H24: 2022-12-31 | I24: 240 | J24: 0 | K24: 168200 | L24: 168200 | M24: 1 | N24: 184100 | O24: 0.87 | P24: =ROUND(N24*O24,-1) -> 160170 | Q24: 0.5 | R24: =ROUND(P24*Q24,-1) -> 80090 | U24: 生产部管理人员 | V24: 闲置
A25: 合 计 | K25: =SUM(K6:K24) -> 8760042.7 | L25: =SUM(L6:L24) -> 2936650.9 | N25: =SUM(N6:N24) -> 5733788 | P25: =SUM(P6:P24) -> 2680800 | R25: =SUM(R6:R24) -> 1340420
A26: 减：机器设备减值准备 | L26: 168200
A27: 合 计 | K27: =K25-K26 -> 8760042.7 | L27: =L25-L26 -> 2768450.9 | N27: =N25-N26 -> 5733788 | P27: =P25-P26 -> 2680800 | R27: =R25-R26 -> 1340420
A28: 填表人：冯军 | K28: 评估人员：康永军、张力、张黎、高攀、吴培 | Q28: 评估人员：康永军、张力、张黎、高攀、吴培
A29: 填表日期：2024-4-8

Sheet 固定资产-电子设备评估明细表
A1: 电子设备评估明细表
N2: 评估基准日：2023年11月13日 | O2: 评估基准日：2023年11月13日
A3: 产权持有人：贵州产投高科新型建筑建材科技有限责任公司 | X3: 人民币：元
A4: 序号 | B4: 资产编码 | C4: 资产名称 | D4: 所属组织 | E4: 规格 | F4: 型号 | G4: 数量 | H4: 计量单位 | I4: 资产类别 | J4: 开始使用日期 | K4: 使用月限 | L4: 已计提期数 | M4: 账面价值 | O4: 市场价值 | R4: 变现率 | S4: 清算价值 | T4: 增减值 | U4: 增值率 | V4: 使用部门 | W4: 盘点数量 | X4: 备注
M5: 原值 | N5: 净值 | O5: 原值 | P5: 成新率 | Q5: 净值
A6: 1 | B6: 050025 | C6: 防盗门 | D6: 贵州产投高科新型建筑建材科技有限责任公司 | E6: 2050*960百家福 | F6: 2050*960百家福 | G6: 1 | H6: 扇 | I6: 办公设备 | J6: 2016-10-27 | K6: 60 | L6: 60 | M6: 1760 | N6: 0 | O6: 1570 | P6: 0.53004566 | Q6: =ROUND(O6*P6,-1) -> 830 | R6: 0.6 | S6: =ROUND(Q6*R6,-1) -> 500 | V6: 财务部 | W6: 1 | X6: 正常使用
A7: 2 | B7: 050026 | C7: 防盗门 | D7: 贵州产投高科新型建筑建材科技有限责任公司 | E7: 2050*1480百家福 | F7: 2050*1480百家福 | G7: 1 | H7: 扇 | I7: 办公设备 | J7: 2016-11-03 | K7: 60 | L7: 60 | M7: 2480 | N7: 0 | O7: 2430 | P7: 0.5313242 | Q7: =ROUND(O7*P7,-1) -> 1290 | R7: 0.6 | S7: =ROUND(Q7*R7,-1) -> 770 | V7: 综合部 | W7: 1 | X7: 正常使用
A8: 3 | B8: 040009 | C8: 粤慧凌四门冰柜 | D8: 贵州产投高科新型建筑建材科技有限责任公司 | E8: 1200*730*1900D1.0L4 | F8: 1200*730*1900D1.0L4 | G8: 1 | H8: 台 | I8: 电子设备 | J8: 2016-11-03 | K8: 36 | L8: 36 | M8: 5300 | N8: 0 | O8: 5999 | P8: 0.2969863 | Q8: =ROUND(O8*P8,-1) -> 1780 | R8: 0.6 | S8: =ROUND(Q8*R8,-1) -> 1070 | V8: 综合部 | W8: 1 | X8: 闲置
A9: 4 | B9: 050027 | C9: 平板货架 | D9: 贵州产投高科新型建筑建材科技有限责任公司 | E9: 400*500*1600不锈钢 | F9: 400*500*1600不锈钢 | G9: 1 | H9: 个 | I9: 办公设备 | J9: 2016-11-03 | K9: 60 | L9: 60 | M9: 800 | N9: 0 | O9: 750 | P9: 0.12123288 | Q9: =ROUND(O9*P9,-1) -> 90 | R9: 0.6 | S9: =ROUND(Q9*R9,-1) -> 50 | V9: 综合部 | W9: 1 | X9: 闲置
A10: 5 | B10: 050028 | C10: 双槽水池 | D10: 贵州产投高科新型建筑建材科技有限责任公司 | E10: 1200*600*800不锈钢 | F10: 1200*600*800不锈钢 | G10: 1 | H10: 个 | I10: 办公设备 | J10: 2016-11-03 | K10: 60 | L10: 60 | M10: 600 | N10: 0 | O10: 280 | P10: 0.12123288 | Q10: =ROUND(O10*P10,-1) -> 30 | R10: 0.6 | S10: =ROUND(Q10*R10,-1) -> 20 | V10: 综合部 | W10: 1 | X10: 闲置
A11: 6 | B11: 050029 | C11: 单头气炉 | D11: 贵州产投高科新型建筑建材科技有限责任公司 | E11: 1100-800-800 | F11: 1100-800-800 | G11: 1 | H11: 个 | I11: 办公设备 | J11: 2016-11-03 | K11: 60 | L11: 60 | M11: 900 | N11: 0 | O11: 888 | P11: 0.12123288 | Q11: =ROUND(O11*P11,-1) -> 110 | R11: 0.6 | S11: =ROUND(Q11*R11,-1) -> 70 | V11: 综合部 | W11: 1 | X11: 闲置
A12: 7 | B12: 040010 | C12: 威尔浦双门高温消毒柜 | D12: 贵州产投高科新型建筑建材科技有限责任公司 | E12: 1150.*600*1500910G-A | F12: 1150.*600*1500910G-A | G12: 1 | H12: 台 | I12: 电子设备 | J12: 2016-11-03 | K12: 36 | L12: 36 | M12: 2200 | N12: 0 | O12: 2399 | P12: 0.12123288 | Q12: =ROUND(O12*P12,-1) -> 290 | R12: 0.6 | S12: =ROUND(Q12*R12,-1) -> 170 | V12: 综合部 | W12: 1 | X12: 闲置
A13: 8 | B13: 050030 | C13: 分数盘 | D13: 贵州产投高科新型建筑建材科技有限责任公司 | E13: 不锈钢，0.3m*0.6m | F13: 不锈钢 | G13: 5 | H13: 个 | I13: 办公设备 | J13: 2016-11-03 | K13: 60 | L13: 60 | M13: 500 | N13: 0 | O13: 205 | P13: 0.12123288 | Q13: =ROUND(O13*P13,-1) -> 20 | R13: 0.6 | S13: =ROUND(Q13*R13,-1) -> 10 | V13: 综合部 | W13: 5 | X13: 闲置
A14: 9 | B14: 050031 | C14: 餐具回收车 | D14: 贵州产投高科新型建筑建材科技有限责任公司 | E14: 不锈钢，3层，1m*0.6m | F14: 不锈钢 | G14: 5 | H14: 个 | I14: 办公设备 | J14: 2016-11-03 | K14: 60 | L14: 60 | M14: 600 | N14: 0 | O14: 178 | P14: 0.1 | Q14: =ROUND(O14*P14,-1) -> 20 | R14: 0.6 | S14: =ROUND(Q14*R14,-1) -> 10 | V14: 综合部 | W14: 1 | X14: 闲置，盘亏4个
A15: 10 | B15: 050032 | C15: 筷子勺等 | D15: 贵州产投高科新型建筑建材科技有限责任公司 | E15: 不锈钢 | F15: 不锈钢 | G15: 70 | H15: 双 | I15: 办公设备 | J15: 2016-11-03 | K15: 60 | L15: 60 | M15: 980 | N15: 0 | V15: 综合部 | W15: 0 | X15: 盘亏
A16: 11 | B16: 050033 | C16: 台式双头燃气灶 | D16: 贵州产投高科新型建筑建材科技有限责任公司 | E16: 液化气 | F16: 液化气 | G16: 1 | H16: 个 | I16: 办公设备 | J16: 2016-11-03 | K16: 60 | L16: 60 | M16: 200 | N16: 0 | V16: 综合部 | W16: 0 | X16: 盘亏
A17: 12 | B17: 040011 | C17: 电饭煲 | D17: 贵州产投高科新型建筑建材科技有限责任公司 | E17: 质鼎牌10L | F17: 质鼎牌10L | G17: 2 | H17: 个 | I17: 电子设备 | J17: 2016-11-03 | K17: 36 | L17: 36 | M17: 400 | N17: 0 | O17: 496 | P17: 0.12123288 | Q17: =ROUND(O17*P17,-1) -> 60 | R17: 0.6 | S17: =ROUND(Q17*R17,-1) -> 40 | V17: 综合部 | W17: 2 | X17: 闲置
A18: 13 | B18: 050034 | C18: 不锈钢工作台 | D18: 贵州产投高科新型建筑建材科技有限责任公司 | E18: 1800*600*800不锈钢 | F18: 1800*600*800不锈钢 | G18: 1 | H18: 个 | I18: 办公设备 | J18: 2016-11-03 | K18: 60 | L18: 60 | M18: 1400 | N18: 0 | O18: 1200 | P18: 0.12123288 | Q18: =ROUND(O18*P18,-1) -> 150 | R18: 0.6 | S18: =ROUND(Q18*R18,-1) -> 90 | V18: 综合部 | W18: 1 | X18: 闲置
A19: 14 | B19: 050035 | C19: 不锈钢工作台 | D19: 贵州产投高科新型建筑建材科技有限责任公司 | E19: 1900*600*800不锈钢 | F19: 1900*600*800不锈钢 | G19: 1 | H19: 个 | I19: 办公设备 | J19: 2016-11-03 | K19: 60 | L19: 60 | M19: 2700 | N19: 0 | O19: 2200 | P19: 0.12123288 | Q19: =ROUND(O19*P19,-1) -> 270 | R19: 0.6 | S19: =ROUND(Q19*R19,-1) -> 160 | V19: 综合部 | W19: 1 | X19: 闲置
A20: 15 | B20: 040012 | C20: 微波炉 | D20: 贵州产投高科新型建筑建材科技有限责任公司 | E20: 美的，M1-211A | F20: 美的 | G20: 1 | H20: 个 | I20: 电子设备 | J20: 2016-11-03 | K20: 36 | L20: 36 | M20: 400 | N20: 0 | O20: 358 | P20: 0.12123288 | Q20: =ROUND(O20*P20,-1) -> 40 | R20: 0.6 | S20: =ROUND(Q20*R20,-1) -> 20 | V20: 综合部 | W20: 1 | X20: 闲置
A21: 16 | B21: 040013 | C21: 电磁炉 | D21: 贵州产投高科新型建筑建材科技有限责任公司 | E21: 美的，RTC30-280Q | F21: 美的 | G21: 1 | H21: 个 | I21: 电子设备 | J21: 2016-11-03 | K21: 36 | L21: 36 | M21: 300 | N21: 0 | V21: 综合部 | W21: 1 | X21: 面板已坏
A22: 17 | B22: 050036 | C22: 厨师用具 | D22: 贵州产投高科新型建筑建材科技有限责任公司 | G22: 1 | H22: 套 | I22: 办公设备 | J22: 2016-11-03 | K22: 60 | L22: 60 | M22: 500 | N22: 0 | V22: 综合部 | W22: 0 | X22: 盘亏
A23: 18 | B23: 050037 | C23: 油烟机 | D23: 贵州产投高科新型建筑建材科技有限责任公司 | E23: 不锈钢，1.1m*1，2m | F23: 不锈钢 | G23: 1 | H23: 台 | I23: 办公设备 | J23: 2016-11-03 | K23: 60 | L23: 60 | M23: 1000 | N23: 0 | O23: 1109 | P23: 0.12123288 | Q23: =ROUND(O23*P23,-1) -> 130 | R23: 0.6 | S23: =ROUND(Q23*R23,-1) -> 80 | V23: 综合部 | W23: 1 | X23: 闲置
A24: 19 | B24: 040014 | C24: 考勤机 | D24: 贵州产投高科新型建筑建材科技有限责任公司 | E24: F18 | F24: F18 | G24: 1 | H24: 台 | I24: 电子设备 | J24: 2016-11-03 | K24: 36 | L24: 36 | M24: 598 | N24: 0 | O24: 439 | P24: 0.12123288 | Q24: =ROUND(O24*P24,-1) -> 50 | R24: 0.6 | S24: =ROUND(Q24*R24,-1) -> 30 | V24: 综合部 | W24: 1 | X24: 闲置
A25: 20 | B25: 040036 | C25: 硬盘录像机 | D25: 贵州产投高科新型建筑建材科技有限责任公司 | E25: DS-7716NHK-K4 | F25: DS-7716NHK-K4 | G25: 1 | H25: 台 | I25: 电子设备 | J25: 2016-11-22 | K25: 36 | L25: 36 | M25: 1567.57 | N25: 0 | O25: 1300 | P25: 0.12773973 | Q25: =ROUND(O25*P25,-1) -> 170 | R25: 0.6 | S25: =ROUND(Q25*R25,-1) -> 100 | V25: 墙板生产线 | W25: 1 | X25: 闲置
A26: 21 | B26: 040037 | C26: 监视器 | D26: 贵州产投高科新型建筑建材科技有限责任公司 | E26: 清华同方23吋 | F26: 清华同方23吋 | G26: 1 | H26: 台 | I26: 电子设备 | J26: 2016-11-22 | K26: 36 | L26: 36 | M26: 918.92 | N26: 0 | O26: 700 | P26: 0.1 | Q26: =ROUND(O26*P26,-1) -> 70 | R26: 0.6 | S26: =ROUND(Q26*R26,-1) -> 40 | V26: 墙板生产线 | W26: 1 | X26: 闲置
A27: 22 | B27: 040038 | C27: 监控专用硬盘 | D27: 贵州产投高科新型建筑建材科技有限责任公司 | E27: 3T希捷 | F27: 3T希捷 | G27: 4 | H27: 台 | I27: 电子设备 | J27: 2016-11-22 | K27: 36 | L27: 36 | M27: 2882.88 | N27: 0 | O27: 2400 | P27: 0.1 | Q27: =ROUND(O27*P27,-1) -> 240 | R27: 0.6 | S27: =ROUND(Q27*R27,-1) -> 140 | V27: 墙板生产线 | W27: 4 | X27: 闲置
A28: 23 | B28: 040039 | C28: 枪机 | D28: 贵州产投高科新型建筑建材科技有限责任公司 | E28: 4mmDS-2CD2THK35D-I3 | F28: 4mmDS-2CD2THK35D-I3 | G28: 2 | H28: 个 | I28: 电子设备 | J28: 2016-11-22 | K28: 36 | L28: 36 | M28: 756.76 | N28: 0 | O28: 718 | P28: 0.12773973 | Q28: =ROUND(O28*P28,-1) -> 90 | R28: 0.6 | S28: =ROUND(Q28*R28,-1) -> 50 | V28: 墙板生产线 | W28: 2 | X28: 闲置
A29: 24 | B29: 040040 | C29: 枪机 | D29: 贵州产投高科新型建筑建材科技有限责任公司 | E29: DS-2CD2THK35D-I3 | F29: DS-2CD2THK35D-I3 | G29: 1 | H29: 个 | I29: 电子设备 | J29: 2016-11-22 | K29: 36 | L29: 36 | M29: 378.38 | N29: 0 | O29: 359 | P29: 0.12773973 | Q29: =ROUND(O29*P29,-1) -> 50 | R29: 0.6 | S29: =ROUND(Q29*R29,-1) -> 30 | V29: 墙板生产线 | W29: 1 | X29: 闲置
A30: 25 | B30: 040041 | C30: 枪机 | D30: 贵州产投高科新型建筑建材科技有限责任公司 | E30: 6mmDS-2CD2THK35D-I3 | F30: 6mmDS-2CD2THK35D-I3 | G30: 2 | H30: 个 | I30: 电子设备 | J30: 2016-11-22 | K30: 36 | L30: 36 | M30: 756.76 | N30: 0 | O30: 718 | P30: 0.12773973 | Q30: =ROUND(O30*P30,-1) -> 90 | R30: 0.6 | S30: =ROUND(Q30*R30,-1) -> 50 | V30: 墙板生产线 | W30: 2 | X30: 闲置
A31: 26 | B31: 040042 | C31: 枪机 | D31: 贵州产投高科新型建筑建材科技有限责任公司 | E31: 12mmDS-2CD2THK35D-I3 | F31: 12mmDS-2CD2THK35D-I3 | G31: 6 | H31: 个 | I31: 电子设备 | J31: 2016-11-22 | K31: 36 | L31: 36 | M31: 3027.03 | N31: 0 | O31: 2154 | P31: 0.12773973 | Q31: =ROUND(O31*P31,-1) -> 280 | R31: 0.6 | S31: =ROUND(Q31*R31,-1) -> 170 | V31: 墙板生产线 | W31: 6 | X31: 闲置
A32: 27 | B32: 040043 | C32: 球机 | D32: 贵州产投高科新型建筑建材科技有限责任公司 | E32: DS-2DE7320HKIW-A300万像素，吊顶安装高12米 | F32: DS-2DE7320HKIW-A300万像素，吊顶安装高12米 | G32: 1 | H32: 个 | I32: 电子设备 | J32: 2016-11-22 | K32: 36 | L32: 36 | M32: 2522.52 | N32: 0 | O32: 450 | Q32: 450 | R32: 0.6 | S32: =ROUND(Q32*R32,-1) -> 270 | V32: 墙板生产线 | W32: 1 | X32: 闲置
A33: 28 | B33: 040044 | C33: 枪机电源适配器 | D33: 贵州产投高科新型建筑建材科技有限责任公司 | E33: DC12V室内型 | F33: DC12V室内型 | G33: 8 | H33: 个 | I33: 电子设备 | J33: 2016-11-22 | K33: 36 | L33: 36 | M33: 216.22 | N33: 0 | O33: 96 | P33: 0.12773973 | Q33: =ROUND(O33*P33,-1) -> 10 | R33: 0.6 | S33: =ROUND(Q33*R33,-1) -> 10 | V33: 墙板生产线 | W33: 8 | X33: 闲置
A34: 29 | B34: 040045 | C34: 枪机电源适配器 | D34: 贵州产投高科新型建筑建材科技有限责任公司 | E34: DC12V室外型 | F34: DC12V室外型 | G34: 4 | H34: 个 | I34: 电子设备 | J34: 2016-11-22 | K34: 36 | L34: 36 | M34: 108.11 | N34: 0 | O34: 48 | P34: 0.12773973 | Q34: =ROUND(O34*P34,-1) -> 10 | R34: 0.6 | S34: =ROUND(Q34*R34,-1) -> 10 | V34: 墙板生产线 | W34: 4 | X34: 闲置
A35: 30 | B35: 040046 | C35: 枪机支架 | D35: 贵州产投高科新型建筑建材科技有限责任公司 | E35: DS-1292ZJ（金属）长臂 | F35: DS-1292ZJ（金属）长臂 | G35: 9 | H35: 个 | I35: 电子设备 | J35: 2016-11-22 | K35: 36 | L35: 36 | M35: 243.24 | N35: 0 | O35: 387 | P35: 0.12773973 | Q35: =ROUND(O35*P35,-1) -> 50 | R35: 0.6 | S35: =ROUND(Q35*R35,-1) -> 30 | V35: 墙板生产线 | W35: 9 | X35: 闲置
A36: 31 | B36: 040047 | C36: 枪机支架 | D36: 贵州产投高科新型建筑建材科技有限责任公司 | E36: 抱箍式 | F36: 抱箍式 | G36: 2 | H36: 个 | I36: 电子设备 | J36: 2016-11-22 | K36: 36 | L36: 36 | M36: 90.09 | N36: 0 | O36: 86 | P36: 0.12773973 | Q36: =ROUND(O36*P36,-1) -> 10 | R36: 0.6 | S36: =ROUND(Q36*R36,-1) -> 10 | V36: 墙板生产线 | W36: 2 | X36: 闲置
A37: 32 | B37: 040048 | C37: 球机支架 | D37: 贵州产投高科新型建筑建材科技有限责任公司 | E37: DS-1662ZJ吊顶式 | F37: DS-1662ZJ吊顶式 | G37: 1 | H37: 个 | I37: 电子设备 | J37: 2016-11-22 | K37: 36 | L37: 36 | M37: 90.09 | N37: 0 | O37: 43 | P37: 0.12773973 | Q37: =ROUND(O37*P37,-1) -> 10 | R37: 0.6 | S37: =ROUND(Q37*R37,-1) -> 10 | V37: 墙板生产线 | W37: 1 | X37: 闲置
A38: 33 | B38: 040049 | C38: 多用插座 | D38: 贵州产投高科新型建筑建材科技有限责任公司 | E38: 3*4公牛12孔 | F38: 3*4公牛12孔 | G38: 3 | H38: 个 | I38: 电子设备 | J38: 2016-11-22 | K38: 36 | L38: 36 | M38: 162.16 | N38: 0 | O38: 120 | P38: 0.12773973 | Q38: =ROUND(O38*P38,-1) -> 20 | R38: 0.6 | S38: =ROUND(Q38*R38,-1) -> 10 | V38: 墙板生产线 | W38: 3 | X38: 闲置
A39: 34 | B39: 040050 | C39: 多用插座 | D39: 贵州产投高科新型建筑建材科技有限责任公司 | E39: 3*6公牛18孔 | F39: 3*6公牛18孔 | G39: 1 | H39: 个 | I39: 电子设备 | J39: 2016-11-22 | K39: 36 | L39: 36 | M39: 63.06 | N39: 0 | O39: 50 | P39: 0.12773973 | Q39: =ROUND(O39*P39,-1) -> 10 | R39: 0.6 | S39: =ROUND(Q39*R39,-1) -> 10 | V39: 墙板生产线 | W39: 1 | X39: 闲置
A40: 35 | B40: 040051 | C40: 收发器 | D40: 贵州产投高科新型建筑建材科技有限责任公司 | E40: 单芯ST-SC100M | F40: 单芯ST-SC100M | G40: 6 | H40: 个 | I40: 电子设备 | J40: 2016-11-22 | K40: 36 | L40: 36 | M40: 2594.59 | N40: 0 | O40: 2352 | P40: 0.12773973 | Q40: =ROUND(O40*P40,-1) -> 300 | R40: 0.6 | S40: =ROUND(Q40*R40,-1) -> 180 | V40: 墙板生产线 | W40: 6 | X40: 闲置
A41: 36 | B41: 040052 | C41: 终端盒 | D41: 贵州产投高科新型建筑建材科技有限责任公司 | E41: 4口 | F41: 4口 | G41: 1 | H41: 个 | I41: 电子设备 | J41: 2016-11-22 | K41: 36 | L41: 36 | M41: 156.76 | N41: 0 | O41: 33 | P41: 0.12773973 | Q41: =ROUND(O41*P41,0) -> 4 | R41: 0.6 | S41: =ROUND(Q41*R41,0) -> 2 | V41: 墙板生产线 | W41: 1 | X41: 闲置
A42: 37 | B42: 040053 | C42: 终端盒 | D42: 贵州产投高科新型建筑建材科技有限责任公司 | E42: 8口几家式 | F42: 8口几家式 | G42: 1 | H42: 个 | I42: 电子设备 | J42: 2016-11-22 | K42: 36 | L42: 36 | M42: 52.25 | N42: 0 | O42: 66 | P42: 0.12773973 | Q42: =ROUND(O42*P42,-1) -> 10 | R42: 0.6 | S42: =ROUND(Q42*R42,-1) -> 10 | V42: 墙板生产线 | W42: 1 | X42: 闲置
A43: 38 | B43: 040054 | C43: 网络墙柜 | D43: 贵州产投高科新型建筑建材科技有限责任公司 | E43: 6U | F43: 6U | G43: 3 | H43: 个 | I43: 电子设备 | J43: 2016-11-22 | K43: 36 | L43: 36 | M43: 486.49 | N43: 0 | O43: 300 | P43: 0.12773973 | Q43: =ROUND(O43*P43,-1) -> 40 | R43: 0.6 | S43: =ROUND(Q43*R43,-1) -> 20 | V43: 墙板生产线 | W43: 2 | X43: 闲置，1个盘亏
A44: 39 | B44: 040055 | C44: 交换机 | D44: 贵州产投高科新型建筑建材科技有限责任公司 | E44: 4口TPLTNK | F44: 4口TPLTNK | G44: 2 | H44: 个 | I44: 电子设备 | J44: 2016-11-22 | K44: 36 | L44: 36 | M44: 126.13 | N44: 0 | O44: 138 | P44: 0.12773973 | Q44: =ROUND(O44*P44,-1) -> 20 | R44: 0.6 | S44: =ROUND(Q44*R44,-1) -> 10 | V44: 墙板生产线 | W44: 2 | X44: 闲置
A45: 40 | B45: 040056 | C45: 交换机 | D45: 贵州产投高科新型建筑建材科技有限责任公司 | E45: 8口TPLINK | F45: 8口TPLINK | G45: 1 | H45: 个 | I45: 电子设备 | J45: 2016-11-22 | K45: 36 | L45: 36 | M45: 99.1 | N45: 0 | O45: 120 | P45: 0.12773973 | Q45: =ROUND(O45*P45,-1) -> 20 | R45: 0.6 | S45: =ROUND(Q45*R45,-1) -> 10 | V45: 墙板生产线 | W45: 1 | X45: 闲置
A46: 41 | B46: 040057 | C46: 交换机 | D46: 贵州产投高科新型建筑建材科技有限责任公司 | E46: 16口TPLINK | F46: 16口TPLINK | G46: 1 | H46: 个 | I46: 电子设备 | J46: 2016-11-22 | K46: 36 | L46: 36 | M46: 360.36 | N46: 0 | O46: 300 | P46: 0.12773973 | Q46: =ROUND(O46*P46,-1) -> 40 | R46: 0.6 | S46: =ROUND(Q46*R46,-1) -> 20 | V46: 墙板生产线 | W46: 1 | X46: 闲置
A47: 42 | B47: 040058 | C47: 监控施工费 | D47: 贵州产投高科新型建筑建材科技有限责任公司 | G47: 1 | H47: 项 | I47: 电子设备 | J47: 2016-11-22 | K47: 36 | L47: 36 | M47: 21980.17 | N47: 0 | V47: 墙板生产线
A48: 43 | B48: 040059 | C48: 柜式空调 | D48: 贵州产投高科新型建筑建材科技有限责任公司 | E48: 两匹，76LW/E1(76568L)A1-N1 | F48: 两匹 | G48: 1 | H48: 台 | I48: 电子设备 | J48: 2016-11-22 | K48: 36 | L48: 36 | M48: 5000 | N48: 0 | O48: 5399 | P48: 0.12773973 | Q48: =ROUND(O48*P48,-1) -> 690 | R48: 0.6 | S48: =ROUND(Q48*R48,-1) -> 410 | V48: 生产部管理人员 | W48: 1 | X48: 闲置
A49: 44 | B49: 040060 | C49: 柜式空调 | D49: 贵州产投高科新型建筑建材科技有限责任公司 | E49: 三匹,72LW/72591NhAa-3 | F49: 三匹 | G49: 1 | H49: 台 | I49: 电子设备 | J49: 2016-11-22 | K49: 36 | L49: 36 | M49: 5500 | N49: 0 | O49: 5399 | P49: 0.12773973 | Q49: =ROUND(O49*P49,-1) -> 690 | R49: 0.6 | S49: =ROUND(Q49*R49,-1) -> 410 | V49: 综合部 | W49: 1 | X49: 闲置
A50: 45 | B50: 040062 | C50: 柜式空调 | D50: 贵州产投高科新型建筑建材科技有限责任公司 | E50: 格力两匹,KFR-50LW(50568)FNCg-3 | F50: 格力两匹 | G50: 1 | H50: 台 | I50: 电子设备 | J50: 2016-11-22 | K50: 36 | L50: 36 | M50: 5000 | N50: 0 | O50: 4699 | P50: 0.12773973 | Q50: =ROUND(O50*P50,-1) -> 600 | R50: 0.6 | S50: =ROUND(Q50*R50,-1) -> 360 | V50: 综合部 | W50: 1 | X50: 闲置
A51: 46 | B51: 040063 | C51: 格力空调 | D51: 贵州产投高科新型建筑建材科技有限责任公司 | E51: 三匹,72LW/72591NhAa-3 | F51: 3匹 | G51: 1 | H51: 台 | I51: 电子设备 | J51: 2016-12-05 | K51: 36 | L51: 36 | M51: 5500 | N51: 0 | O51: 5399 | P51: 0.13219178 | Q51: =ROUND(O51*P51,-1) -> 710 | R51: 0.6 | S51: =ROUND(Q51*R51,-1) -> 430 | V51: 财务部 | W51: 1 | X51: 闲置
A52: 47 | B52: 040064 | C52: 格力空调 | D52: 贵州产投高科新型建筑建材科技有限责任公司 | E52: 2匹,KFR-50LW/50591NHAa-3 | F52: 2匹 | G52: 1 | H52: 台 | I52: 电子设备 | J52: 2016-12-05 | K52: 36 | L52: 36 | M52: 5000 | N52: 0 | O52: 4699 | P52: 0.13219178 | Q52: =ROUND(O52*P52,-1) -> 620 | R52: 0.6 | S52: =ROUND(Q52*R52,-1) -> 370 | V52: 综合部 | W52: 1 | X52: 闲置
A53: 48 | B53: 050041 | C53: 铁皮文件柜 | D53: 贵州产投高科新型建筑建材科技有限责任公司 | E53: 加厚 | F53: 加厚 | G53: 1 | H53: 个 | I53: 办公设备 | J53: 2016-12-08 | K53: 60 | L53: 60 | M53: 560 | N53: 0 | O53: 200 | Q53: 200 | R53: 0.6 | S53: =ROUND(Q53*R53,-1) -> 120 | V53: 财务部 | W53: 1 | X53: 闲置
A54: 49 | B54: 050042 | C54: 班椅 | D54: 贵州产投高科新型建筑建材科技有限责任公司 | E54: 标准 | F54: 标准 | G54: 1 | H54: 把 | I54: 办公设备 | J54: 2016-12-08 | K54: 60 | L54: 60 | M54: 650 | N54: 0 | O54: 150 | Q54: 150 | R54: 0.6 | S54: =ROUND(Q54*R54,-1) -> 90 | V54: 销售部 | W54: 1 | X54: 闲置
A55: 50 | B55: 050043 | C55: 铁皮文件柜 | D55: 贵州产投高科新型建筑建材科技有限责任公司 | E55: 加厚 | F55: 加厚 | G55: 1 | H55: 个 | I55: 办公设备 | J55: 2016-12-08 | K55: 60 | L55: 60 | M55: 560 | N55: 0 | O55: 200 | Q55: 200 | R55: 0.6 | S55: =ROUND(Q55*R55,-1) -> 120 | V55: 销售部 | W55: 1 | X55: 闲置
A56: 51 | B56: 040066 | C56: 服务器 | D56: 贵州产投高科新型建筑建材科技有限责任公司 | E56: 戴尔 | F56: 戴尔 | G56: 1 | H56: 台 | I56: 电子设备 | J56: 2016-12-08 | K56: 36 | L56: 36 | M56: 18147.01 | N56: 0 | O56: 200 | Q56: 200 | R56: 0.6 | S56: =ROUND(Q56*R56,-1) -> 120 | V56: 墙板生产线 | W56: 1 | X56: 闲置
A57: 52 | B57: 040067 | C57: 无线路由器 | D57: 贵州产投高科新型建筑建材科技有限责任公司 | E57: 450mTP-LINK | F57: 450mTP-LINK | G57: 3 | H57: 个 | I57: 电子设备 | J57: 2016-12-08 | K57: 36 | L57: 36 | M57: 356.41 | N57: 0 | O57: 312 | P57: 0.13321918 | Q57: =ROUND(O57*P57,-1) -> 40 | R57: 0.6 | S57: =ROUND(Q57*R57,-1) -> 20 | V57: 墙板生产线 | W57: 3 | X57: 闲置
A58: 53 | B58: 040068 | C58: 多WAN口有线路由器 | D58: 贵州产投高科新型建筑建材科技有限责任公司 | E58: TL-R4239G多口TP-LINK | F58: TL-R4239G多口TP-LINK | G58: 1 | H58: 个 | I58: 电子设备 | J58: 2016-12-08 | K58: 36 | L58: 36 | M58: 929.06 | N58: 0 | O58: 829 | P58: 0.13321918 | Q58: =ROUND(O58*P58,-1) -> 110 | R58: 0.6 | S58: =ROUND(Q58*R58,-1) -> 70 | V58: 墙板生产线 | W58: 1 | X58: 闲置
A59: 54 | B59: 040069 | C59: 企业级千兆行为管理器 | D59: 贵州产投高科新型建筑建材科技有限责任公司 | E59: ER5200G2华三 | F59: ER5200G2华三 | G59: 1 | H59: 个 | I59: 电子设备 | J59: 2016-12-08 | K59: 36 | L59: 36 | M59: 3202.56 | N59: 0 | O59: 2099 | P59: 0.13321918 | Q59: =ROUND(O59*P59,-1) -> 280 | R59: 0.6 | S59: =ROUND(Q59*R59,-1) -> 170 | V59: 墙板生产线 | W59: 1 | X59: 闲置
A60: 55 | B60: 040070 | C60: 24口全千兆交换机 | D60: 贵州产投高科新型建筑建材科技有限责任公司 | E60: TL-SG1024DTTO-LINK | F60: TL-SG1024DTTO-LINK | G60: 1 | H60: 个 | I60: 电子设备 | J60: 2016-12-08 | K60: 36 | L60: 36 | M60: 770.94 | N60: 0 | O60: 439 | P60: 0.13321918 | Q60: =ROUND(O60*P60,-1) -> 60 | R60: 0.6 | S60: =ROUND(Q60*R60,-1) -> 40 | V60: 墙板生产线 | W60: 1 | X60: 闲置
A61: 56 | B61: 040071 | C61: 16口全千兆交换机 | D61: 贵州产投高科新型建筑建材科技有限责任公司 | E61: SG1016DTTP-LINK | F61: SG1016DTTP-LINK | G61: 3 | H61: 个 | I61: 电子设备 | J61: 2016-12-08 | K61: 36 | L61: 36 | M61: 1897.44 | N61: 0 | O61: 1347 | P61: 0.13321918 | Q61: =ROUND(O61*P61,-1) -> 180 | R61: 0.6 | S61: =ROUND(Q61*R61,-1) -> 110 | V61: 墙板生产线 | W61: 3 | X61: 闲置
A62: 57 | B62: 040073 | C62: UPS | D62: 贵州产投高科新型建筑建材科技有限责任公司 | E62: 2500VA金武士 | F62: 2500VA金武士 | G62: 1 | H62: 台 | I62: 电子设备 | J62: 2016-12-08 | K62: 36 | L62: 36 | M62: 3538.46 | N62: 0 | O62: 3600 | P62: 0.13321918 | Q62: =ROUND(O62*P62,-1) -> 480 | R62: 0.6 | S62: =ROUND(Q62*R62,-1) -> 290 | V62: 墙板生产线 | W62: 1 | X62: 闲置
A63: 58 | B63: 040074 | C63: 机柜 | D63: 贵州产投高科新型建筑建材科技有限责任公司 | E63: 1200mm*600mm*1000mm | F63: 1200mm*600mm*1000mm | G63: 1 | H63: 个 | I63: 电子设备 | J63: 2016-12-08 | K63: 36 | L63: 36 | M63: 1552.99 | N63: 0 | V63: 墙板生产线 | W63: 0 | X63: 盘亏
A64: 59 | B64: 040077 | C64: 笔记本电脑 | D64: 贵州产投高科新型建筑建材科技有限责任公司 | E64: 联想b51-80 | F64: 联想b51-80 | G64: 2 | H64: 台 | I64: 电子设备 | J64: 2016-12-08 | K64: 36 | L64: 36 | M64: 7873.5 | N64: 0 | O64: 10198 | P64: 0.13321918 | Q64: =ROUND(O64*P64,-1) -> 1360 | R64: 0.6 | S64: =ROUND(Q64*R64,-1) -> 820 | V64: 销售部 | W64: 2 | X64: 闲置
A65: 60 | B65: 040078 | C65: 笔记本电脑 | D65: 贵州产投高科新型建筑建材科技有限责任公司 | E65: 微软surface pro4 | F65: 微软surface pro4 | G65: 1 | H65: 台 | I65: 电子设备 | J65: 2016-12-08 | K65: 36 | L65: 36 | M65: 6505.13 | N65: 0 | V65: 销售部 | W65: 0 | X65: 盘亏
A66: 61 | B66: 040080 | C66: 激光打印机 | D66: 贵州产投高科新型建筑建材科技有限责任公司 | E66: 东芝，DP3004、DP3003 | F66: 东芝 | G66: 1 | H66: 台 | I66: 电子设备 | J66: 2016-12-09 | K66: 36 | L66: 36 | M66: 1847.86 | N66: 0 | O66: 3182 | P66: 0.13356164 | Q66: =ROUND(O66*P66,-1) -> 420 | R66: 0.6 | S66: =ROUND(Q66*R66,-1) -> 250 | V66: 财务部 | W66: 2 | X66: 闲置，盘盈1个
A67: 62 | B67: 040081 | C67: UPS | D67: 贵州产投高科新型建筑建材科技有限责任公司 | E67: 2000VA金武士 | F67: 2000VA金武士 | G67: 2 | H67: 台 | I67: 电子设备 | J67: 2016-12-09 | K67: 36 | L67: 36 | M67: 747.01 | N67: 0 | V67: 财务部 | W67: 0 | X67: 盘亏
A68: 63 | B68: 040082 | C68: 电脑 | D68: 贵州产投高科新型建筑建材科技有限责任公司 | E68: 正版WIN7 | F68: 正版WIN7 | G68: 2 | H68: 台 | I68: 电子设备 | J68: 2016-12-09 | K68: 36 | L68: 36 | M68: 9328.21 | N68: 0 | O68: 500 | Q68: 500 | R68: 0.6 | S68: =ROUND(Q68*R68,-1) -> 300 | V68: 财务部 | W68: 1 | X68: 闲置
A69: 64 | B69: 040083 | C69: 传真机 | D69: 贵州产投高科新型建筑建材科技有限责任公司 | E69: 飞利浦 | F69: 飞利浦 | G69: 1 | H69: 台 | I69: 电子设备 | J69: 2016-12-09 | K69: 36 | L69: 36 | M69: 859.83 | N69: 0 | V69: 综合部 | W69: 0 | X69: 盘亏
A70: 65 | B70: 040084 | C70: 激光复合机-A3 | D70: 贵州产投高科新型建筑建材科技有限责任公司 | E70: 2802AM东芝 | F70: 2802AM东芝 | G70: 1 | H70: 台 | I70: 电子设备 | J70: 2016-12-09 | K70: 36 | L70: 36 | M70: 5605.13 | N70: 0 | V70: 综合部 | W70: 0 | X70: 盘亏
A71: 66 | B71: 040085 | C71: 彩色激光打印机 | D71: 贵州产投高科新型建筑建材科技有限责任公司 | E71: Laser Jet ProCP1025nm惠普 | F71: Laser Jet ProCP1025nm惠普 | G71: 1 | H71: 台 | I71: 电子设备 | J71: 2016-12-09 | K71: 36 | L71: 36 | M71: 1957.26 | N71: 0 | O71: 100 | Q71: 100 | R71: 0.6 | S71: =ROUND(Q71*R71,-1) -> 60 | V71: 综合部 | W71: 1 | X71: 已坏
A72: 67 | B72: 040086 | C72: 碎纸机 | D72: 贵州产投高科新型建筑建材科技有限责任公司 | E72: 33040得力 | F72: 33040得力 | G72: 2 | H72: 台 | I72: 电子设备 | J72: 2016-12-09 | K72: 36 | L72: 36 | M72: 1068.38 | N72: 0 | O72: 818 | P72: 0.13356164 | Q72: =ROUND(O72*P72,-1) -> 110 | R72: 0.6 | S72: =ROUND(Q72*R72,-1) -> 70 | V72: 综合部 | W72: 2 | X72: 闲置
A73: 68 | B73: 040087 | C73: 针式打印机 | D73: 贵州产投高科新型建筑建材科技有限责任公司 | E73: lQ-730KII爱普生 | F73: lQ-730KII爱普生 | G73: 1 | H73: 台 | I73: 电子设备 | J73: 2016-12-09 | K73: 36 | L73: 36 | M73: 2053.85 | N73: 0 | O73: 3398 | P73: 0.13356164 | Q73: =ROUND(O73*P73,-1) -> 450 | R73: 0.6 | S73: =ROUND(Q73*R73,-1) -> 270 | V73: 综合部 | W73: 2 | X73: 闲置，盘盈1个
A74: 69 | B74: 040090 | C74: 办公电脑 | D74: 贵州产投高科新型建筑建材科技有限责任公司 | E74: WIN7 | F74: WIN7 | G74: 1 | H74: 台 | I74: 电子设备 | J74: 2016-12-14 | K74: 36 | L74: 36 | M74: 4077.67 | N74: 0 | O74: 500 | Q74: 500 | R74: 0.6 | S74: =ROUND(Q74*R74,-1) -> 300 | V74: 综合部 | W74: 1 | X74: 闲置
A75: 70 | B75: 050044 | C75: 屏风办公桌 | D75: 贵州产投高科新型建筑建材科技有限责任公司 | E75: 1200*600 | F75: 1200*600 | G75: 14 | H75: 张 | I75: 办公设备 | J75: 2016-12-14 | K75: 60 | L75: 60 | M75: 12600 | N75: 0 | O75: 11032 | P75: 0.13527397 | Q75: =ROUND(O75*P75,-1) -> 1490 | R75: 0.6 | S75: =ROUND(Q75*R75,-1) -> 890 | V75: 生产部管理人员 | W75: 14 | X75: 闲置
A76: 71 | B76: 050045 | C76: 办公椅 | D76: 贵州产投高科新型建筑建材科技有限责任公司 | G76: 13 | H76: 把 | I76: 办公设备 | J76: 2016-12-14 | K76: 60 | L76: 60 | M76: 3900 | N76: 0 | O76: 3367 | P76: 0.13527397 | Q76: =ROUND(O76*P76,-1) -> 460 | R76: 0.6 | S76: =ROUND(Q76*R76,-1) -> 280 | V76: 生产部管理人员 | W76: 13 | X76: 闲置
A77: 72 | B77: 050046 | C77: 办公椅 | D77: 贵州产投高科新型建筑建材科技有限责任公司 | G77: 1 | H77: 把 | I77: 办公设备 | J77: 2016-12-14 | K77: 60 | L77: 60 | M77: 300 | N77: 0 | O77: 259 | P77: 0.13527397 | Q77: =ROUND(O77*P77,-1) -> 40 | R77: 0.6 | S77: =ROUND(Q77*R77,-1) -> 20 | V77: 销售部 | W77: 1 | X77: 闲置
A78: 73 | B78: 050047 | C78: 铁皮文件柜 | D78: 贵州产投高科新型建筑建材科技有限责任公司 | E78: 860+400*1850 | F78: 860+400*1850 | G78: 4 | H78: 个 | I78: 办公设备 | J78: 2016-12-14 | K78: 60 | L78: 60 | M78: 2240 | N78: 0 | O78: 1276 | P78: 0.13527397 | Q78: =ROUND(O78*P78,-1) -> 170 | R78: 0.6 | S78: =ROUND(Q78*R78,-1) -> 100 | V78: 生产部管理人员 | W78: 4 | X78: 闲置
A79: 74 | B79: 050048 | C79: 铁皮文件柜 | D79: 贵州产投高科新型建筑建材科技有限责任公司 | E79: 860*400*1850 | F79: 860*400*1850 | G79: 2 | H79: 个 | I79: 办公设备 | J79: 2016-12-14 | K79: 60 | L79: 60 | M79: 1120 | N79: 0 | O79: 638 | P79: 0.13527397 | Q79: =ROUND(O79*P79,-1) -> 90 | R79: 0.6 | S79: =ROUND(Q79*R79,-1) -> 50 | V79: 综合部 | W79: 2 | X79: 闲置
A80: 75 | B80: 050049 | C80: 铁皮文件柜 | D80: 贵州产投高科新型建筑建材科技有限责任公司 | E80: 860*400*1850 | F80: 860*400*1850 | G80: 3 | H80: 个 | I80: 办公设备 | J80: 2016-12-14 | K80: 60 | L80: 60 | M80: 1680 | N80: 0 | O80: 957 | P80: 0.13527397 | Q80: =ROUND(O80*P80,-1) -> 130 | R80: 0.6 | S80: =ROUND(Q80*R80,-1) -> 80 | V80: 综合部 | W80: 3 | X80: 闲置
A81: 76 | B81: 050050 | C81: 铁皮文件柜 | D81: 贵州产投高科新型建筑建材科技有限责任公司 | E81: 860*400*1850 | F81: 860*400*185 | G81: 1 | H81: 个 | I81: 办公设备 | J81: 2016-12-14 | K81: 60 | L81: 60 | M81: 560 | N81: 0 | O81: 319 | P81: 0.13527397 | Q81: =ROUND(O81*P81,-1) -> 40 | R81: 0.6 | S81: =ROUND(Q81*R81,-1) -> 20 | V81: 综合部 | W81: 1 | X81: 闲置
A82: 77 | B82: 050051 | C82: 四门更衣柜 | D82: 贵州产投高科新型建筑建材科技有限责任公司 | E82: 880*420*1900，木质 | F82: 880*420*1900 | G82: 2 | H82: 个 | I82: 办公设备 | J82: 2016-12-14 | K82: 60 | L82: 60 | M82: 1120 | N82: 0 | O82: 319 | P82: 0.13527397 | Q82: =ROUND(O82*P82,-1) -> 40 | R82: 0.6 | S82: =ROUND(Q82*R82,-1) -> 20 | V82: 综合部 | W82: 1 | X82: 闲置
A83: 78 | B83: 050052 | C83: 四门更衣柜 | D83: 贵州产投高科新型建筑建材科技有限责任公司 | E83: 880*420*1900，铁皮 | F83: 880*420*1900 | G83: 2 | H83: 个 | I83: 办公设备 | J83: 2016-12-14 | K83: 60 | L83: 60 | M83: 1120 | N83: 0 | O83: 638 | P83: 0.13527397 | Q83: =ROUND(O83*P83,-1) -> 90 | R83: 0.6 | S83: =ROUND(Q83*R83,-1) -> 50 | V83: 综合部 | W83: 2 | X83: 闲置
A84: 79 | B84: 050053 | C84: 高低床 | D84: 贵州产投高科新型建筑建材科技有限责任公司 | E84: 2000*900*2000，铁床上下铺 | F84: 2000*900*2000 | G84: 2 | H84: 张 | I84: 办公设备 | J84: 2016-12-14 | K84: 60 | L84: 60 | M84: 900 | N84: 0 | O84: 900 | P84: 0.13527397 | Q84: =ROUND(O84*P84,-1) -> 120 | R84: 0.6 | S84: =ROUND(Q84*R84,-1) -> 70 | V84: 综合部 | W84: 2 | X84: 闲置
A85: 80 | B85: 050054 | C85: 高低床 | D85: 贵州产投高科新型建筑建材科技有限责任公司 | E85: 2000*900*2000，铁床上下铺 | F85: 2000*900*2000 | G85: 1 | H85: 张 | I85: 办公设备 | J85: 2016-12-14 | K85: 60 | L85: 60 | M85: 450 | N85: 0 | O85: 450 | P85: 0.13527397 | Q85: =ROUND(O85*P85,-1) -> 60 | R85: 0.6 | S85: =ROUND(Q85*R85,-1) -> 40 | V85: 综合部 | W85: 1 | X85: 闲置
A86: 81 | B86: 050055 | C86: 高低床 | D86: 贵州产投高科新型建筑建材科技有限责任公司 | E86: 2000*900*2000，铁床上下铺 | F86: 2000*900*2000 | G86: 3 | H86: 张 | I86: 办公设备 | J86: 2016-12-14 | K86: 60 | L86: 60 | M86: 1350 | N86: 0 | O86: 1350 | P86: 0.13527397 | Q86: =ROUND(O86*P86,-1) -> 180 | R86: 0.6 | S86: =ROUND(Q86*R86,-1) -> 110 | V86: 综合部 | W86: 3 | X86: 闲置
A87: 82 | B87: 050056 | C87: 床垫 | D87: 贵州产投高科新型建筑建材科技有限责任公司 | E87: 1950*880*50 | F87: 1950*880*50 | G87: 5 | H87: 张 | I87: 办公设备 | J87: 2016-12-14 | K87: 60 | L87: 60 | M87: 1400 | N87: 0 | O87: 790 | P87: 0.13527397 | Q87: =ROUND(O87*P87,-1) -> 110 | R87: 0.6 | S87: =ROUND(Q87*R87,-1) -> 70 | V87: 综合部 | W87: 5 | X87: 闲置
A88: 83 | B88: 050057 | C88: 床垫 | D88: 贵州产投高科新型建筑建材科技有限责任公司 | E88: 1950*880*50 | F88: 1950*880*50 | G88: 6 | H88: 张 | I88: 办公设备 | J88: 2016-12-14 | K88: 60 | L88: 60 | M88: 1680 | N88: 0 | V88: 综合部 | W88: 0 | X88: 盘亏
A89: 84 | B89: 050058 | C89: 床垫 | D89: 贵州产投高科新型建筑建材科技有限责任公司 | E89: 1950*880*50 | F89: 1950*880*50 | G89: 1 | H89: 张 | I89: 办公设备 | J89: 2016-12-14 | K89: 60 | L89: 60 | M89: 280 | N89: 0 | O89: 158 | P89: 0.13527397 | Q89: =ROUND(O89*P89,-1) -> 20 | R89: 0.6 | S89: =ROUND(Q89*R89,-1) -> 10 | V89: 综合部 | W89: 1 | X89: 闲置
A90: 85 | B90: 050060 | C90: 封卫生间窗 | D90: 贵州产投高科新型建筑建材科技有限责任公司 | E90: 现场制作 | F90: 现场制作 | G90: 4 | I90: 办公设备 | J90: 2016-12-14 | K90: 60 | L90: 60 | M90: 500 | N90: 0 | V90: 综合部 | W90: 0 | X90: 盘亏
A91: 86 | B91: 050061 | C91: 边台 | D91: 贵州产投高科新型建筑建材科技有限责任公司 | E91: 1800*750*800 | F91: 1800*750*800 | G91: 4 | H91: 个 | I91: 办公设备 | J91: 2016-12-14 | K91: 60 | L91: 60 | M91: 4100 | N91: 0 | V91: 生产部管理人员 | W91: 0 | X91: 盘亏
A92: 87 | B92: 050062 | C92: 边台 | D92: 贵州产投高科新型建筑建材科技有限责任公司 | E92: 3600*750*800 | F92: 3600*750*800 | G92: 1 | H92: 个 | I92: 办公设备 | J92: 2016-12-14 | K92: 60 | L92: 60 | M92: 8200 | N92: 0 | V92: 生产部管理人员 | W92: 0 | X92: 盘亏
A93: 88 | B93: 050063 | C93: 转角台 | D93: 贵州产投高科新型建筑建材科技有限责任公司 | E93: 1250*750*800 | F93: 1250*750*800 | G93: 3 | H93: 个 | I93: 办公设备 | J93: 2016-12-14 | K93: 60 | L93: 60 | M93: 2850 | N93: 0 | V93: 生产部管理人员 | W93: 0 | X93: 盘亏
A94: 89 | B94: 050064 | C94: 边台 | D94: 贵州产投高科新型建筑建材科技有限责任公司 | E94: 1200*750*800 | F94: 1200*750*800 | G94: 2 | H94: 个 | I94: 办公设备 | J94: 2016-12-14 | K94: 60 | L94: 60 | M94: 2730 | N94: 0 | V94: 生产部管理人员 | W94: 0 | X94: 盘亏
A95: 90 | B95: 050065 | C95: 边台 | D95: 贵州产投高科新型建筑建材科技有限责任公司 | E95: 1500*750*800 | F95: 1500*750*800 | G95: 1 | H95: 个 | I95: 办公设备 | J95: 2016-12-14 | K95: 60 | L95: 60 | M95: 3420 | N95: 0 | V95: 生产部管理人员 | W95: 0 | X95: 盘亏
A96: 91 | B96: 050067 | C96: 办公桌椅 | D96: 贵州产投高科新型建筑建材科技有限责任公司 | E96: 1桌+1椅 | F96: 1桌+1椅 | G96: 2 | H96: 张 | I96: 办公设备 | J96: 2016-12-20 | K96: 60 | L96: 60 | M96: 960 | N96: 0 | O96: 916 | P96: 0.13732877 | Q96: =ROUND(O96*P96,-1) -> 130 | R96: 0.6 | S96: =ROUND(Q96*R96,-1) -> 80 | V96: 墙板生产线 | W96: 2 | X96: 闲置
A97: 92 | B97: 050068 | C97: 折叠椅 | D97: 贵州产投高科新型建筑建材科技有限责任公司 | E97: 正常尺寸 | F97: 正常尺寸 | G97: 4 | H97: 把 | I97: 办公设备 | J97: 2016-12-20 | K97: 60 | L97: 60 | M97: 380 | N97: 0 | O97: 190 | P97: 0.13732877 | Q97: =ROUND(O97*P97,-1) -> 30 | R97: 0.6 | S97: =ROUND(Q97*R97,-1) -> 20 | V97: 墙板生产线 | W97: 2 | X97: 闲置，盘亏2把
A98: 93 | B98: 050069 | C98: 办公椅 | D98: 贵州产投高科新型建筑建材科技有限责任公司 | E98: 常规 | F98: 常规 | G98: 1 | H98: 把 | I98: 办公设备 | J98: 2016-12-20 | K98: 60 | L98: 60 | M98: 680 | N98: 0 | O98: 259 | P98: 0.13732877 | Q98: =ROUND(O98*P98,-1) -> 40 | R98: 0.6 | S98: =ROUND(Q98*R98,-1) -> 20 | V98: 生产部管理人员 | W98: 1 | X98: 闲置
A99: 94 | B99: 050070 | C99: 监控室隔断 | D99: 贵州产投高科新型建筑建材科技有限责任公司 | E99: 202*375*210，玻璃+铝合金 | F99: 202*375*210 | G99: 1 | H99: 个 | I99: 办公设备 | J99: 2016-12-20 | K99: 60 | L99: 60 | M99: 4000 | N99: 0 | O99: 2121 | P99: 0.13732877 | Q99: =ROUND(O99*P99,-1) -> 290 | R99: 0.6 | S99: =ROUND(Q99*R99,-1) -> 170 | V99: 综合部 | W99: 1 | X99: 闲置
A100: 95 | B100: 050071 | C100: 柜台式隔断 | D100: 贵州产投高科新型建筑建材科技有限责任公司 | E100: 244*42*105 140*42*105 | F100: 244*42*105 140*42*105 | G100: 1 | H100: 个 | I100: 办公设备 | J100: 2016-12-20 | K100: 60 | L100: 60 | M100: 3600 | N100: 0 | O100: 2800 | P100: 0.13732877 | Q100: =ROUND(O100*P100,-1) -> 380 | R100: 0.6 | S100: =ROUND(Q100*R100,-1) -> 230 | V100: 财务部 | W100: 1 | X100: 闲置
...

Sheet 无形资产
A1: 无形资产评估明细表
I2: 评估基准日：2023年11月13日 | K2: 评估基准日：2023年11月13日
A3: 产权持有人：贵州产投高科新型建筑建材科技有限责任公司 | Q3: 人民币：元
A4: 序号 | B4: 类别 | C4: 注册号 | D4: 商标 | E4: 申请日期 | F4: 专用权期限 | G4: 使用月限 | H4: 已计提期数 | I4: 账面价值 | K4: 商标类型 | L4: 评估价值 | M4: 变现率 | N4: 清算价值 | O4: 增减值 | P4: 增值率 | Q4: 备注
I5: 原值 | J5: 净值
A6: 1 | B6: 19 | C6: 29702112 | E6: 2018-3-20 | F6: 2019年1月28日至2029年1月27日 | G6: 240 | H6: 84 | I6: 36410.26 | J6: 11687.71 | K6: 一般 | L6: 1100 | M6: 0.6 | N6: =ROUND(L6*M6,-2) -> 700 | Q6: 注册商标
A7: 2 | B7: 42 | C7: 23832709 | E7: 2017-4-27 | F7: 2018年4月21日至2028年4月20日 | G7: 120 | H7: 82 | I7: 7029540 | J7: 2370126.6 | K7: 一般 | L7: 3200 | M7: 0.6 | N7: =ROUND(L7*M7,-2) -> 1900 | Q7: 注册商标撤销/无效宣告申请审查中，经与委托人沟通，本次按商标有效状态确认评估。
A8: 3 | B8: 19 | C8: 23832620 | E8: 2017-4-27 | F8: 2018年9月21日至2028年9月20日 | G8: 60 | H8: 60 | I8: 177012 | J8: 5310.36 | K8: 一般 | Q8: 注册商标
A9: 合 计 | I9: =SUM(I6:I8) -> 7242962.3 | J9: =SUM(J6:J8) -> 2387124.7 | N9: =SUM(N6:N8) -> 2600
A10: 填表人：冯军 | I10: 评估人员：康永军、张力、张黎、高攀、吴培 | M10: 评估人员：康永军、张力、张黎、高攀、吴培
A11: 填表日期：2024-4-8
