Workbook

Sheet 资产评估结果汇总表
A1: 资产评估结果汇总表
A2: 评估基准日：2023年11月13日
A3: =存货—半成品评估明细表!A3 -> 产权持有人：贵州产投高科新型建筑建材科技有限责任公司 | E3: 金额单位：人民币万元
A4: 项目 | C4: 市场价值 | D4: 清算价值 | E4: 备注 | F4: 增减值 | G4: 增值率%
C5: A | F5: C=B-A | G5: D=C/A×100%
A6: 1 | B6: 流动资产
A7: 一、 | B7: 流动资产 | C7: =C8+C9 -> 6106.752 | D7: =D8+D9 -> 19.999 | F7: =D7-C7 -> -6086.753 | G7: =F7/C7*100 -> -99.67251
A8: 1 | B8: 存货—半成品 | C8: =存货—半成品评估明细表!H9 -> 6106.752 | D8: =存货—半成品评估明细表!J9/10000 -> 0.367 | F8: =F7 -> -6086.753 | G8: =G7 -> -99.67251
A9: 2 | B9: 存货—库存商品 | C9: =存货—产成品评估明细表!G39 -> 0 | D9: =存货—产成品评估明细表!J39/10000 -> 19.632 | F9: =F8 -> -6086.753 | G9: =G8 -> -99.67251
A10: 二、 | B10: 非流动资产 | C10: =C11 -> 2768984 | D10: =D11+D12 -> 136.5662 | F10: =F9 -> -6086.753 | G10: =G9 -> -99.67251
A11: 1 | B11: 固定资产 | C11: ='固定资产-机器设备评估明细表'!L27+'固定资产-电子设备评估明细表'!N153 -> 2768984 | D11: ='固定资产-机器设备评估明细表'!R27/10000+'固定资产-电子设备评估明细表'!S153/10000 -> 136.3062 | F11: =F10 -> -6086.753 | G11: =G10 -> -99.67251
A12: 2 | B12: 无形资产 | D12: =无形资产!N9/10000 -> 0.26
A13: 三、 | B13: 资产总计 | C13: =C7+C10 -> 2775090.7 | D13: =D10+D7 -> 156.5652 | F13: =D13-C13 -> -2774934.1 | G13: =F13/C13*100 -> -99.994358
A14: 评估机构：重庆谛威资产评估房地产土地估价有限公司 | D14: =存货—半成品评估明细表!I10 -> 评估人员：康永军、张力、张黎、高攀、吴培

Sheet 存货—半成品评估明细表
A1: 存货—半成品评估明细表
H2: 评估基准日：2023年11月13日
A3: 产权持有人：贵州产投高科新型建筑建材科技有限责任公司 | M3: 人民币：元
A4: 序号 | B4: 名称 | C4: 规格型号 | D4: 数量 | E4: 计量单位 | F4: 生产日期 | G4: 账面价值 | H4: 市场价值 | I4: 变现率 | J4: 清算价值 | K4: 增减值 | L4: 增值率 | M4: 备注
A5: 1 | B5: 墙板 | C5: 3000*600*120 | D5: =28*3+2+10+11 -> 107 | E5: 块 | F5: 2019年6月 | H5: 5546.88 | I5: 0.6 | J5: =ROUND(H5*I5,-1) -> 3330 | K5: =H5-G5 -> 5546.88 | L5: =K5/G5 -> #DIV/0! | M5: 处于预养护阶段，尚未质检拆模、清洁上油
A6: 2 | B6: 墙板 | C6: 2700*600*120 | D6: =5+3+2+2 -> 12 | E6: 块 | F6: 2019年6月 | H6: 559.872 | I6: 0.6 | J6: =ROUND(H6*I6,-1) -> 340 | K6: =H6-G6 -> 559.872 | L6: =K6/G6 -> #DIV/0! | M6: 处于预养护阶段，尚未质检拆模、清洁上油
A9: 合计 | D9: =SUM(D5:D8) -> 119 | H9: =SUM(H5:H8) -> 6106.752 | J9: =SUM(J5:J8) -> 3670 | K9: =SUM(K5:K8) -> 6106.752 | L9: =K9/G9 -> #DIV/0!
A10: 填表人：冯军 | I10: 评估人员：康永军、张力、张黎、高攀、吴培
A11: 填表日期：2024-4-8

Sheet 存货—产成品评估明细表
A1: 存货—库存商品评估明细表
H2: 评估基准日：2023年11月13日
A3: 产权持有人：贵州产投高科新型建筑建材科技有限责任公司 | M3: 人民币：元
A4: 序号 | B4: 名称 | C4: 规格型号 | D4: 数量 | E4: 计量单位 | F4: 生产日期 | G4: 账面价值 | H4: 市场价值 | I4: 变现率 | J4: 清算价值 | K4: 增减值 | L4: 增值率 | M4: 备注
A5: 1 | B5: 墙板 | C5: 3000*600*120 | D5: =55*4 -> 220 | E5: 块 | F5: 43577 | H5: 12672 | I5: 0.6 | J5: =ROUND(H5*I5,-1) -> 7600 | K5: =H5-G5 -> 12672 | L5: =K5/G5 -> #DIV/0! | M5: 存放在厂房内
A6: 2 | B6: 墙板 | C6: 3000*600*120 | D6: =55*4 -> 220 | E6: 块 | F6: 43577 | H6: 12672 | I6: 0.6 | J6: =ROUND(H6*I6,-1) -> 7600 | K6: =H6-G6 -> 12672 | L6: =K6/G6 -> #DIV/0! | M6: 存放在厂房内
A7: 3 | B7: 墙板 | C7: 3000*600*120 | D7: 50 | E7: 块 | F7: 43577 | H7: 2880 | I7: 0.6 | J7: =ROUND(H7*I7,-1) -> 1730 | K7: =H7-G7 -> 2880 | L7: =K7/G7 -> #DIV/0! | M7: 存放在厂房内
A8: 4 | B8: 墙板 | C8: 3000*600*120 | D8: 4 | E8: 块 | F8: 43577 | H8: 230.4 | I8: 0.6 | J8: =ROUND(H8*I8,-1) -> 140 | K8: =H8-G8 -> 230.4 | L8: =K8/G8 -> #DIV/0! | M8: 存放在厂房内
A9: 5 | B9: 墙板 | C9: 3000*600*120 | D9: 75 | E9: 块 | F9: 43577 | H9: 4320 | I9: 0.6 | J9: =ROUND(H9*I9,-1) -> 2590 | K9: =H9-G9 -> 4320 | L9: =K9/G9 -> #DIV/0! | M9: 存放在厂房内
A10: 6 | B10: 墙板 | C10: 3000*600*120 | D10: 49 | E10: 块 | F10: 43577 | H10: 2822.4 | I10: 0.6 | J10: =ROUND(H10*I10,-1) -> 1690 | K10: =H10-G10 -> 2822.4 | L10: =K10/G10 -> #DIV/0! | M10: 存放在厂房内
A11: 7 | B11: 墙板 | C11: 3000*600*92 | D11: =56*4+6 -> 230 | E11: 块 | F11: 43060 | H11: 13248 | I11: 0.6 | J11: =ROUND(H11*I11,-1) -> 7950 | K11: =H11-G11 -> 13248 | L11: =K11/G11 -> #DIV/0! | M11: 存放在厂房内
A12: 8 | B12: 墙板 | C12: 3000*600*120 | D12: 9 | E12: 块 | F12: 43590 | H12: 518.4 | I12: 0.6 | J12: =ROUND(H12*I12,-1) -> 310 | K12: =H12-G12 -> 518.4 | L12: =K12/G12 -> #DIV/0! | M12: 存放在厂房内
A13: 9 | B13: 墙板 | C13: 3000*600*120 | D13: 5 | E13: 块 | F13: 43510 | H13: 288 | I13: 0.6 | J13: =ROUND(H13*I13,-1) -> 170 | K13: =H13-G13 -> 288 | L13: =K13/G13 -> #DIV/0! | M13: 存放在厂房内
A14: 10 | B14: 墙板 | C14: 2700*600*120 | D14: 8 | E14: 块 | F14: 43497 | H14: 414.72 | I14: 0.6 | J14: =ROUND(H14*I14,-1) -> 250 | K14: =H14-G14 -> 414.72 | L14: =K14/G14 -> #DIV/0! | M14: 存放在厂房内
A15: 11 | B15: 墙板 | C15: 3000*600*92 | D15: =60*3+53 -> 233 | E15: 块 | F15: 43067 | H15: 13420.8 | I15: 0.6 | J15: =ROUND(H15*I15,-1) -> 8050 | K15: =H15-G15 -> 13420.8 | L15: =K15/G15 -> #DIV/0! | M15: 存放在厂房内
A16: 12 | B16: 墙板 | C16: 3000*600*120 | D16: 19 | E16: 块 | F16: 43395 | H16: 1094.4 | I16: 0.6 | J16: =ROUND(H16*I16,-1) -> 660 | K16: =H16-G16 -> 1094.4 | L16: =K16/G16 -> #DIV/0! | M16: 存放在厂房内
A17: 13 | B17: 墙板 | C17: 2700*600*120 | D17: 5 | E17: 块 | F17: 43191 | H17: 259.2 | I17: 0.6 | J17: =ROUND(H17*I17,-1) -> 160 | K17: =H17-G17 -> 259.2 | L17: =K17/G17 -> #DIV/0! | M17: 存放在厂房内
A18: 14 | B18: 墙板 | C18: 3000*600*120 | D18: 10 | E18: 块 | F18: 43562 | H18: 576 | I18: 0.6 | J18: =ROUND(H18*I18,-1) -> 350 | K18: =H18-G18 -> 576 | L18: =K18/G18 -> #DIV/0! | M18: 存放在厂房内
A19: 15 | B19: 墙板 | C19: 3000*600*92 | D19: 90 | E19: 块 | F19: 43068 | H19: 5184 | I19: 0.6 | J19: =ROUND(H19*I19,-1) -> 3110 | K19: =H19-G19 -> 5184 | L19: =K19/G19 -> #DIV/0! | M19: 存放在厂房内
A20: 16 | B20: 墙板 | C20: 2700*600*120 | D20: 85 | E20: 块 | F20: 43199 | H20: 4406.4 | I20: 0.6 | J20: =ROUND(H20*I20,-1) -> 2640 | K20: =H20-G20 -> 4406.4 | L20: =K20/G20 -> #DIV/0! | M20: 存放在厂房内
A21: 17 | B21: 墙板 | C21: 3000*600*120 | D21: 93 | E21: 块 | F21: 43432 | H21: 5356.8 | I21: 0.6 | J21: =ROUND(H21*I21,-1) -> 3210 | K21: =H21-G21 -> 5356.8 | L21: =K21/G21 -> #DIV/0! | M21: 存放在厂房内
A22: 18 | B22: 墙板 | C22: 2700*600*120 | D22: 10 | E22: 块 | F22: 43558 | H22: 518.4 | I22: 0.6 | J22: =ROUND(H22*I22,-1) -> 310 | K22: =H22-G22 -> 518.4 | L22: =K22/G22 -> #DIV/0! | M22: 存放在厂房内
A23: 19 | B23: 墙板 | C23: 3000*600*92 | D23: =66*3+25 -> 223 | E23: 块 | F23: 43052 | H23: 12844.8 | I23: 0.6 | J23: =ROUND(H23*I23,-1) -> 7710 | K23: =H23-G23 -> 12844.8 | L23: =K23/G23 -> #DIV/0! | M23: 存放在厂房内
A24: 20 | B24: 墙板 | C24: 3000*600*92 | D24: =66*3+60 -> 258 | E24: 块 | F24: 43068 | H24: 14860.8 | I24: 0.6 | J24: =ROUND(H24*I24,-1) -> 8920 | K24: =H24-G24 -> 14860.8 | L24: =K24/G24 -> #DIV/0! | M24: 存放在厂房内
A25: 21 | B25: 墙板 | C25: 3000*600*120 | D25: 153 | E25: 块 | F25: 43647 | H25: 8812.8 | I25: 0.6 | J25: =ROUND(H25*I25,-1) -> 5290 | K25: =H25-G25 -> 8812.8 | L25: =K25/G25 -> #DIV/0! | M25: 存放在厂房内
A26: 22 | B26: 墙板 | C26: 3000*600*120 | D26: 139 | E26: 块 | F26: 43641 | H26: 8006.4 | I26: 0.6 | J26: =ROUND(H26*I26,-1) -> 4800 | K26: =H26-G26 -> 8006.4 | L26: =K26/G26 -> #DIV/0! | M26: 存放在厂房内
A27: 23 | B27: 墙板 | C27: 3000*600*120 | D27: =16*5-2 -> 78 | E27: 块 | F27: 43627 | H27: 4492.8 | I27: 0.6 | J27: =ROUND(H27*I27,-1) -> 2700 | K27: =H27-G27 -> 4492.8 | L27: =K27/G27 -> #DIV/0! | M27: 存放在厂房内
A28: 24 | B28: 墙板 | C28: 2700*600*92 | D28: =23*6+128 -> 266 | E28: 块 | F28: 43199 | H28: 13789.44 | I28: 0.6 | J28: =ROUND(H28*I28,-1) -> 8270 | K28: =H28-G28 -> 13789.44 | L28: =K28/G28 -> #DIV/0! | M28: 存放在厂房内
A29: 25 | B29: 墙板 | C29: 3000*600*92 | D29: 9 | E29: 块 | F29: 43627 | H29: 518.4 | I29: 0.6 | J29: =ROUND(H29*I29,-1) -> 310 | K29: =H29-G29 -> 518.4 | L29: =K29/G29 -> #DIV/0! | M29: 存放在厂房内
A30: 26 | B30: 墙板 | C30: 2770*600*92 | D30: =162*3-1 -> 485 | E30: 块 | F30: 43203 | H30: 25794.24 | I30: 0.6 | J30: =ROUND(H30*I30,-1) -> 15480 | K30: =H30-G30 -> 25794.24 | L30: =K30/G30 -> #DIV/0! | M30: 存放在厂房内
A31: 27 | B31: 墙板 | C31: 3000*600*92 | D31: 168 | E31: 块 | F31: 43068 | H31: 9676.8 | I31: 0.6 | J31: =ROUND(H31*I31,-1) -> 5810 | K31: =H31-G31 -> 9676.8 | L31: =K31/G31 -> #DIV/0! | M31: 存放在厂房内
A32: 28 | B32: 墙板 | C32: 3000*600*92 | D32: =114+77 -> 191 | E32: 块 | F32: 43056 | H32: 11001.6 | I32: 0.6 | J32: =ROUND(H32*I32,-1) -> 6600 | K32: =H32-G32 -> 11001.6 | L32: =K32/G32 -> #DIV/0! | M32: 存放在厂房内
A33: 29 | B33: 墙板 | C33: 3000*600*92 | D33: 220 | E33: 块 | F33: 43031 | H33: 12672 | I33: 0.6 | J33: =ROUND(H33*I33,-1) -> 7600 | K33: =H33-G33 -> 12672 | L33: =K33/G33 -> #DIV/0! | M33: 存放在厂房内
A34: 30 | B34: 墙板 | C34: 3000*600*120 | D34: 350 | E34: 块 | F34: 43644 | H34: 20160 | I34: 0.6 | J34: =ROUND(H34*I34,-1) -> 12100 | K34: =H34-G34 -> 20160 | L34: =K34/G34 -> #DIV/0! | M34: 存放在厂房内
A35: 31 | B35: 墙板 | C35: 3000*600*120 | D35: =19*5*4*2 -> 760 | E35: 块 | F35: 43619 | H35: 43776 | I35: 0.6 | J35: =ROUND(H35*I35,-1) -> 26270 | K35: =H35-G35 -> 43776 | L35: =K35/G35 -> #DIV/0! | M35: 存放在厂房内
A36: 32 | B36: 墙板 | C36: 3000*600*120 | D36: =18*5*4*2 -> 720 | E36: 块 | F36: 43600 | H36: 41472 | I36: 0.6 | J36: =ROUND(H36*I36,-1) -> 24880 | K36: =H36-G36 -> 41472 | L36: =K36/G36 -> #DIV/0! | M36: 存放在厂房内
A37: 33 | B37: 墙板 | C37: 3000*600*120 | D37: =16*5*4 -> 320 | E37: 块 | F37: 43598 | H37: 18432 | I37: 0.6 | J37: =ROUND(H37*I37,-1) -> 11060 | K37: =H37-G37 -> 18432 | L37: =K37/G37 -> #DIV/0! | M37: 存放在厂房内
A39: 合计 | D39: =SUM(D5:D38) -> 5755 | G39: =SUM(G5:G38) -> 0 | H39: =SUM(H5:H38) -> 327192 | J39: =SUM(J5:J38) -> 196320 | K39: =SUM(K5:K38) -> 327192 | L39: =K39/G39 -> #DIV/0!
A40: 填表人：冯军 | I40: 评估人员：康永军、张力、张黎、高攀、吴培
A41: 填表日期：2024-4-8

Sheet 固定资产-机器设备评估明细表
A1: 机器设备评估明细表
K2: 评估基准日：2023年11月13日 | M2: 评估基准日：2023年11月13日
A3: 产权持有人：贵州产投高科新型建筑建材科技有限责任公司 | V3: 人民币：元
A4: 序号 | B4: 资产编码 | C4: 资产名称 | D4: 规格 | E4: 账面数量 | F4: 计量单位 | G4: 资产类别 | H4: 开始使用日期 | I4: 使用月限 | J4: 已计提期数 | K4: 账面价值 | M4: 盘点数量 | N4: 市场价值 | Q4: 变现率 | R4: 清算价值 | S4: 增减值 | T4: 增值率 | U4: 使用部门 | V4: 备注
K5: 原值 | L5: 净值 | N5: 原值 | O5: 成新率 | P5: 净值
A6: 1 | B6: 02990017 | C6: 地磅 | D6: 数字式电子汽车衡 | E6: 1 | F6: 台 | G6: 机器设备 | H6: 2016-12-09 | I6: 240 | J6: 84 | K6: 36410.26 | L6: 11687.71 | M6: 0 | U6: 墙板生产线 | V6: 盘亏
A7: 2 | B7: 02030006 | C7: ACOTECRRO生产线 | D7: 搅拌、料斗、挤出、切割、修边、堆垛 | E7: 1 | F7: 条 | G7: 机器设备 | H7: 2017-02-23 | I7: 120 | J7: 82 | K7: 7029540 | L7: 2370126.6 | M7: 1 | N7: 4500000 | O7: 0.42 | P7: 1890000 | Q7: 0.5 | R7: =ROUND(P7*Q7,-1) -> 945000 | U7: 墙板生产线 | V7: 闲置
A8: 3 | B8: 030002 | C8: 电动叉车 | D8: CPD型135 | E8: 2 | F8: 台 | G8: 运输设备 | H8: 2017-02-23 | I8: 60 | J8: 60 | K8: 177012 | L8: 5310.36 | M8: 2 | N8: 159616 | O8: 0.48 | P8: =ROUND(N8*O8,-1) -> 76620 | Q8: 0.5 | R8: =ROUND(P8*Q8,-1) -> 38310 | U8: 墙板生产线 | V8: 闲置
A9: 4 | B9: 02030007 | C9: 螺杆式空压机 | D9: SF15-8 | E9: 1 | F9: 台 | G9: 机器设备 | H9: 2017-02-23 | I9: 120 | J9: 82 | K9: 28111.3 | L9: 9478.33 | M9: 1 | N9: 31800 | O9: 0.5 | P9: =ROUND(N9*O9,-1) -> 15900 | Q9: 0.5 | R9: =ROUND(P9*Q9,-1) -> 7950 | U9: 墙板生产线 | V9: 闲置
A10: 5 | B10: 030003 | C10: 安装辅助车 | E10: 2 | F10: 台 | G10: 运输设备 | H10: 2017-02-23 | I10: 60 | J10: 60 | K10: 5721.24 | L10: 171.64 | M10: 2 | N10: 5200 | O10: 0.43 | P10: =ROUND(N10*O10,-1) -> 2240 | Q10: 0.5 | R10: =ROUND(P10*Q10,-1) -> 1120 | U10: 墙板生产线 | V10: 闲置
A11: 6 | B11: 02990018 | C11: 底模 | D11: Pl5.0*680*3000 | E11: 200 | F11: 个 | G11: 机器设备 | H11: 2017-04-03 | I11: 120 | J11: 80 | K11: 108793.05 | L11: 38440.25 | M11: 200 | N11: 35088 | O11: 0.61 | P11: =ROUND(N11*O11,-1) -> 21400 | Q11: 0.5 | R11: =ROUND(P11*Q11,-1) -> 10700 | U11: 墙板生产线 | V11: 闲置
A12: 7 | B12: 02990019 | C12: 托盘 | D12: 120*600*3300 | E12: 40 | F12: 个 | G12: 机器设备 | H12: 2017-04-03 | I12: 120 | J12: 80 | K12: 41929.91 | L12: 14815.36 | M12: 40 | N12: 5440 | O12: 0.61 | P12: =ROUND(N12*O12,-1) -> 3320 | Q12: 0.5 | R12: =ROUND(P12*Q12,-1) -> 1660 | U12: 墙板生产线 | V12: 闲置
A13: 8 | B13: 02990020 | C13: 景观墙立柱 | D13: HW125*125*1300 | E13: 9 | F13: 个 | G13: 机器设备 | H13: 2017-04-03 | I13: 120 | J13: 80 | K13: 3846.15 | L13: 1358.95 | M13: 10 | N13: 2850 | O13: 0.44 | P13: =ROUND(N13*O13,-1) -> 1250 | Q13: 0.5 | R13: =ROUND(P13*Q13,-1) -> 630 | U13: 墙板生产线 | V13: 闲置，1个盘盈
A14: 9 | B14: 02010001 | C14: T型设备 | D14: 90型 | E14: 1 | F14: 台 | G14: 机器设备 | H14: 2017-06-14 | I14: 120 | J14: 78 | K14: 12820.51 | L14: 4737.35 | M14: 0 | U14: 墙板生产线 | V14: 盘亏
A15: 10 | B15: 02010002 | C15: L型设备 | D15: 90型 | E15: 1 | F15: 台 | G15: 机器设备 | H15: 2017-06-14 | I15: 120 | J15: 78 | K15: 12820.51 | L15: 4737.35 | M15: 0 | U15: 墙板生产线 | V15: 盘亏
A16: 11 | B16: 02990021 | C16: 底模 | D16: 610*3000 直径4 | E16: 300 | F16: 个 | G16: 机器设备 | H16: 2017-06-22 | I16: 120 | J16: 78 | K16: 171178.35 | L16: 64719.64 | M16: 300 | N16: 47214 | O16: 0.62 | P16: =ROUND(N16*O16,-1) -> 29270 | Q16: 0.5 | R16: =ROUND(P16*Q16,-1) -> 14640 | U16: 墙板生产线 | V16: 闲置
A17: 12 | B17: 02990022 | C17: 托盘 | D17: 120*660*3300 | E17: 60 | F17: 个 | G17: 机器设备 | H17: 2017-06-22 | I17: 120 | J17: 78 | K17: 55555.55 | L17: 20527.88 | M17: 60 | N17: 8160 | O17: 0.62 | P17: =ROUND(N17*O17,-1) -> 5060 | Q17: 0.5 | R17: =ROUND(P17*Q17,-1) -> 2530 | U17: 墙板生产线 | V17: 闲置
A18: 13 | B18: 040109 | C18: ZQS智能切割机 | D18: ZQS400 | E18: 1 | F18: 台 | G18: 机器设备 | H18: 2017-08-02 | I18: 36 | J18: 36 | K18: 2564.1 | L18: 0 | M18: 1 | N18: 2700 | O18: 0.6 | P18: =ROUND(N18*O18,-1) -> 1620 | Q18: 0.5 | R18: =ROUND(P18*Q18,-1) -> 810 | U18: 墙板生产线 | V18: 闲置
A19: 14 | B19: 030004 | C19: 叉车 | D19: 2吨2吨 | E19: 1 | F19: 台 | G19: 运输设备 | H19: 2017-08-02 | I19: 60 | J19: 60 | K19: 1000 | L19: 30 | M19: 1 | N19: 810 | O19: 0.49 | P19: =ROUND(N19*O19,-1) -> 400 | Q19: 0.5 | R19: =ROUND(P19*Q19,-1) -> 200 | U19: 墙板生产线 | V19: 闲置
A20: 15 | B20: 030005 | C20: 叉车 | D20: 2吨2吨 | E20: 1 | F20: 台 | G20: 运输设备 | H20: 2017-08-02 | I20: 60 | J20: 60 | K20: 1000 | L20: 30 | M20: 1 | N20: 810 | O20: 0.31 | P20: =ROUND(N20*O20,-1) -> 250 | Q20: 0.5 | R20: =ROUND(P20*Q20,-1) -> 130 | U20: 墙板生产线 | V20: 已坏
A21: 16 | B21: 030006 | C21: 柳工装载机 | D21: CLG855N | E21: 1 | F21: 台 | G21: 运输设备 | H21: 2019-08-05 | I21: 60 | J21: 52 | K21: 323008.85 | L21: 51466.13 | M21: 1 | N21: 335000 | O21: 0.62 | P21: =ROUND(N21*O21,-1) -> 207700 | Q21: 0.5 | R21: =ROUND(P21*Q21,-1) -> 103850 | U21: 混凝土生产线 | V21: 闲置
A22: 17 | B22: 030007 | C22: 柳工牌装载机 | D22: CLG856H | E22: 1 | F22: 台 | G22: 运输设备 | H22: 2020-04-22 | I22: 60 | J22: 44 | K22: 380530.97 | L22: 109846.63 | M22: 1 | N22: 415000 | O22: 0.64 | P22: =ROUND(N22*O22,-1) -> 265600 | Q22: 0.5 | R22: =ROUND(P22*Q22,-1) -> 132800 | U22: 混凝土生产线 | V22: 闲置
A23: 18 | B23: 02990016 | C23: 墙板线附属设施 | D23: B650*19 | E23: 1 | F23: 套 | G23: 机器设备 | H23: 2016-10-01 | I23: 120 | J23: 86 | K23: 199999.99 | L23: 60966.67 | M23: 0 | U23: 墙板生产线 | V23: 盘亏
A24: 19 | B24: 0103000001 | C24: 发电机及配套工程 | D24: XM-7660 | E24: 1 | F24: 套 | G24: 机器设备 | H24: 2022-12-31 | I24: 240 | J24: 0 | K24: 168200 | L24: 168200 | M24: 1 | N24: 184100 | O24: 0.87 | P24: =ROUND(N24*O24,-1) -> 160170 | Q24: 0.5 | R24: =ROUND(P24*Q24,-1) -> 80090 | U24: 生产部管理人员 | V24: 闲置
A25: 合 计 | K25: =SUM(K6:K24) -> 8760042.7 | L25: =SUM(L6:L24) -> 2936650.9 | N25: =SUM(N6:N24) -> 5733788 | P25: =SUM(P6:P24) -> 2680800 | R25: =SUM(R6:R24) -> 1340420
A26: 减：机器设备减值准备 | L26: 168200
A27: 合 计 | K27: =K25-K26 -> 8760042.7 | L27: =L25-L26 -> 2768450.9 | N27: =N25-N26 -> 5733788 | P27: =P25-P26 -> 2680800 | R27: =R25-R26 -> 1340420
A28: 填表人：冯军 | K28: 评估人员：康永军、张力、张黎、高攀、吴培 | Q28: 评估人员：康永军、张力、张黎、高攀、吴培
A29: 填表日期：2024-4-8

Sheet 固定资产-电子设备评估明细表
A1: 电子设备评估明细表
N2: 评估基准日：2023年11月13日 | O2: 评估基准日：2023年11月13日
A3: 产权持有人：贵州产投高科新型建筑建材科技有限责任公司 | X3: 人民币：元
A4: 序号 | B4: 资产编码 | C4: 资产名称 | D4: 所属组织 | E4: 规格 | F4: 型号 | G4: 数量 | H4: 计量单位 | I4: 资产类别 | J4: 开始使用日期 | K4: 使用月限 | L4: 已计提期数 | M4: 账面价值 | O4: 市场价值 | R4: 变现率 | S4: 清算价值 | T4: 增减值 | U4: 增值率 | V4: 使用部门 | W4: 盘点数量 | X4: 备注
M5: 原值 | N5: 净值 | O5: 原值 | P5: 成新率 | Q5: 净值
A6: 1 | B6: 050025 | C6: 防盗门 | D6: 贵州产投高科新型建筑建材科技有限责任公司 | E6: 2050*960百家福 | F6: 2050*960百家福 | G6: 1 | H6: 扇 | I6: 办公设备 | J6: 2016-10-27 | K6: 60 | L6: 60 | M6: 1760 | N6: 0 | O6: 1570 | P6: 0.53004566 | Q6: =ROUND(O6*P6,-1) -> 830 | R6: 0.6 | S6: =ROUND(Q6*R6,-1) -> 500 | V6: 财务部 | W6: 1 | X6: 正常使用
A7: 2 | B7: 050026 | C7: 防盗门 | D7: 贵州产投高科新型建筑建材科技有限责任公司 | E7: 2050*1480百家福 | F7: 2050*1480百家福 | G7: 1 | H7: 扇 | I7: 办公设备 | J7: 2016-11-03 | K7: 60 | L7: 60 | M7: 2480 | N7: 0 | O7: 2430 | P7: 0.5313242 | Q7: =ROUND(O7*P7,-1) -> 1290 | R7: 0.6 | S7: =ROUND(Q7*R7,-1) -> 770 | V7: 综合部 | W7: 1 | X7: 正常使用
A8: 3 | B8: 040009 | C8: 粤慧凌四门冰柜 | D8: 贵州产投高科新型建筑建材科技有限责任公司 | E8: 1200*730*1900D1.0L4 | F8: 1200*730*1900D1.0L4 | G8: 1 | H8: 台 | I8: 电子设备 | J8: 2016-11-03 | K8: 36 | L8: 36 | M8: 5300 | N8: 0 | O8: 5999 | P8: 0.2969863 | Q8: =ROUND(O8*P8,-1) -> 1780 | R8: 0.6 | S8: =ROUND(Q8*R8,-1) -> 1070 | V8: 综合部 | W8: 1 | X8: 闲置
A9: 4 | B9: 050027 | C9: 平板货架 | D9: 贵州产投高科新型建筑建材科技有限责任公司 | E9: 400*500*1600不锈钢 | F9: 400*500*1600不锈钢 | G9: 1 | H9: 个 | I9: 办公设备 | J9: 2016-11-03 | K9: 60 | L9: 60 | M9: 800 | N9: 0 | O9: 750 | P9: 0.12123288 | Q9: =ROUND(O9*P9,-1) -> 90 | R9: 0.6 | S9: =ROUND(Q9*R9,-1) -> 50 | V9: 综合部 | W9: 1 | X9: 闲置
A10: 5 | B10: 050028 | C10: 双槽水池 | D10: 贵州产投高科新型建筑建材科技有限责任公司 | E10: 1200*600*800不锈钢 | F10: 1200*600*800不锈钢 | G10: 1 | H10: 个 | I10: 办公设备 | J10: 2016-11-03 | K10: 60 | L10: 60 | M10: 600 | N10: 0 | O10: 280 | P10: 0.12123288 | Q10: =ROUND(O10*P10,-1) -> 30 | R10: 0.6 | S10: =ROUND(Q10*R10,-1) -> 20 | V10: 综合部 | W10: 1 | X10: 闲置
A11: 6 | B11: 050029 | C11: 单头气炉 | D11: 贵州产投高科新型建筑建材科技有限责任公司 | E11: 1100-800-800 | F11: 1100-800-800 | G11: 1 | H11: 个 | I11: 办公设备 | J11: 2016-11-03 | K11: 60 | L11: 60 | M11: 900 | N11: 0 | O11: 888 | P11: 0.12123288 | Q11: =ROUND(O11*P11,-1) -> 110 | R11: 0.6 | S11: =ROUND(Q11*R11,-1) -> 70 | V11: 综合部 | W11: 1 | X11: 闲置
A12: 7 | B12: 040010 | C12: 威尔浦双门高温消毒柜 | D12: 贵州产投高科新型建筑建材科技有限责任公司 | E12: 1150.*600*1500910G-A | F12: 1150.*600*1500910G-A | G12: 1 | H12: 台 | I12: 电子设备 | J12: 2016-11-03 | K12: 36 | L12: 36 | M12: 2200 | N12: 0 | O12: 2399 | P12: 0.12123288 | Q12: =ROUND(O12*P12,-1) -> 290 | R12: 0.6 | S12: =ROUND(Q12*R12,-1) -> 170 | V12: 综合部 | W12: 1 | X12: 闲置
A13: 8 | B13: 050030 | C13: 分数盘 | D13: 贵州产投高科新型建筑建材科技有限责任公司 | E13: 不锈钢，0.3m*0.6m | F13: 不锈钢 | G13: 5 | H13: 个 | I13: 办公设备 | J13: 2016-11-03 | K13: 60 | L13: 60 | M13: 500 | N13: 0 | O13: 205 | P13: 0.12123288 | Q13: =ROUND(O13*P13,-1) -> 20 | R13: 0.6 | S13: =ROUND(Q13*R13,-1) -> 10 | V13: 综合部 | W13: 5 | X13: 闲置
A14: 9 | B14: 050031 | C14: 餐具回收车 | D14: 贵州产投高科新型建筑建材科技有限责任公司 | E14: 不锈钢，3层，1m*0.6m | F14: 不锈钢 | G14: 5 | H14: 个 | I14: 办公设备 | J14: 2016-11-03 | K14: 60 | L14: 60 | M14: 600 | N14: 0 | O14: 178 | P14: 0.1 | Q14: =ROUND(O14*P14,-1) -> 20 | R14: 0.6 | S14: =ROUND(Q14*R14,-1) -> 10 | V14: 综合部 | W14: 1 | X14: 闲置，盘亏4个
A15: 10 | B15: 050032 | C15: 筷子勺等 | D15: 贵州产投高科新型建筑建材科技有限责任公司 | E15: 不锈钢 | F15: 不锈钢 | G15: 70 | H15: 双 | I15: 办公设备 | J15: 2016-11-03 | K15: 60 | L15: 60 | M15: 980 | N15: 0 | V15: 综合部 | W15: 0 | X15: 盘亏
A16: 11 | B16: 050033 | C16: 台式双头燃气灶 | D16: 贵州产投高科新型建筑建材科技有限责任公司 | E16: 液化气 | F16: 液化气 | G16: 1 | H16: 个 | I16: 办公设备 | J16: 2016-11-03 | K16: 60 | L16: 60 | M16: 200 | N16: 0 | V16: 综合部 | W16: 0 | X16: 盘亏
A17: 12 | B17: 040011 | C17: 电饭煲 | D17: 贵州产投高科新型建筑建材科技有限责任公司 | E17: 质鼎牌10L | F17: 质鼎牌10L | G17: 2 | H17: 个 | I17: 电子设备 | J17: 2016-11-03 | K17: 36 | L17: 36 | M17: 400 | N17: 0 | O17: 496 | P17: 0.12123288 | Q17: =ROUND(O17*P17,-1) -> 60 | R17: 0.6 | S17: =ROUND(Q17*R17,-1) -> 40 | V17: 综合部 | W17: 2 | X17: 闲置
A18: 13 | B18: 050034 | C18: 不锈钢工作台 | D18: 贵州产投高科新型建筑建材科技有限责任公司 | E18: 1800*600*800不锈钢 | F18: 1800*600*800不锈钢 | G18: 1 | H18: 个 | I18: 办公设备 | J18: 2016-11-03 | K18: 60 | L18: 60 | M18: 1400 | N18: 0 | O18: 1200 | P18: 0.12123288 | Q18: =ROUND(O18*P18,-1) -> 150 | R18: 0.6 | S18: =ROUND(Q18*R18,-1) -> 90 | V18: 综合部 | W18: 1 | X18: 闲置
A19: 14 | B19: 050035 | C19: 不锈钢工作台 | D19: 贵州产投高科新型建筑建材科技有限责任公司 | E19: 1900*600*800不锈钢 | F19: 1900*600*800不锈钢 | G19: 1 | H19: 个 | I19: 办公设备 | J19: 2016-11-03 | K19: 60 | L19: 60 | M19: 2700 | N19: 0 | O19: 2200 | P19: 0.12123288 | Q19: =ROUND(O19*P19,-1) -> 270 | R19: 0.6 | S19: =ROUND(Q19*R19,-1) -> 160 | V19: 综合部 | W19: 1 | X19: 闲置
A20: 15 | B20: 040012 | C20: 微波炉 | D20: 贵州产投高科新型建筑建材科技有限责任公司 | E20: 美的，M1-211A | F20: 美的 | G20: 1 | H20: 个 | I20: 电子设备 | J20: 2016-11-03 | K20: 36 | L20: 36 | M20: 400 | N20: 0 | O20: 358 | P20: 0.12123288 | Q20: =ROUND(O20*P20,-1) -> 40 | R20: 0.6 | S20: =ROUND(Q20*R20,-1) -> 20 | V20: 综合部 | W20: 1 | X20: 闲置
A21: 16 | B21: 040013 | C21: 电磁炉 | D21: 贵州产投高科新型建筑建材科技有限责任公司 | E21: 美的，RTC30-280Q | F21: 美的 | G21: 1 | H21: 个 | I21: 电子设备 | J21: 2016-11-03 | K21: 36 | L21: 36 | M21: 300 | N21: 0 | V21: 综合部 | W21: 1 | X21: 面板已坏
A22: 17 | B22: 050036 | C22: 厨师用具 | D22: 贵州产投高科新型建筑建材科技有限责任公司 | G22: 1 | H22: 套 | I22: 办公设备 | J22: 2016-11-03 | K22: 60 | L22: 60 | M22: 500 | N22: 0 | V22: 综合部 | W22: 0 | X22: 盘亏
A23: 18 | B23: 050037 | C23: 油烟机 | D23: 贵州产投高科新型建筑建材科技有限责任公司 | E23: 不锈钢，1.1m*1，2m | F23: 不锈钢 | G23: 1 | H23: 台 | I23: 办公设备 | J23: 2016-11-03 | K23: 60 | L23: 60 | M23: 1000 | N23: 0 | O23: 1109 | P23: 0.12123288 | Q23: =ROUND(O23*P23,-1) -> 130 | R23: 0.6 | S23: =ROUND(Q23*R23,-1) -> 80 | V23: 综合部 | W23: 1 | X23: 闲置
A24: 19 | B24: 040014 | C24: 考勤机 | D24: 贵州产投高科新型建筑建材科技有限责任公司 | E24: F18 | F24: F18 | G24: 1 | H24: 台 | I24: 电子设备 | J24: 2016-11-03 | K24: 36 | L24: 36 | M24: 598 | N24: 0 | O24: 439 | P24: 0.12123288 | Q24: =ROUND(O24*P24,-1) -> 50 | R24: 0.6 | S24: =ROUND(Q24*R24,-1) -> 30 | V24: 综合部 | W24: 1 | X24: 闲置
A25: 20 | B25: 040036 | C25: 硬盘录像机 | D25: 贵州产投高科新型建筑建材科技有限责任公司 | E25: DS-7716NHK-K4 | F25: DS-7716NHK-K4 | G25: 1 | H25: 台 | I25: 电子设备 | J25: 2016-11-22 | K25: 36 | L25: 36 | M25: 1567.57 | N25: 0 | O25: 1300 | P25: 0.12773973 | Q25: =ROUND(O25*P25,-1) -> 170 | R25: 0.6 | S25: =ROUND(Q25*R25,-1) -> 100 | V25: 墙板生产线 | W25: 1 | X25: 闲置
A26: 21 | B26: 040037 | C26: 监视器 | D26: 贵州产投高科新型建筑建材科技有限责任公司 | E26: 清华同方23吋 | F26: 清华同方23吋 | G26: 1 | H26: 台 | I26: 电子设备 | J26: 2016-11-22 | K26: 36 | L26: 36 | M26: 918.92 | N26: 0 | O26: 700 | P26: 0.1 | Q26: =ROUND(O26*P26,-1) -> 70 | R26: 0.6 | S26: =ROUND(Q26*R26,-1) -> 40 | V26: 墙板生产线 | W26: 1 | X26: 闲置
A27: 22 | B27: 040038 | C27: 监控专用硬盘 | D27: 贵州产投高科新型建筑建材科技有限责任公司 | E27: 3T希捷 | F27: 3T希捷 | G27: 4 | H27: 台 | I27: 电子设备 | J27: 2016-11-22 | K27: 36 | L27: 36 | M27: 2882.88 | N27: 0 | O27: 2400 | P27: 0.1 | Q27: =ROUND(O27*P27,-1) -> 240 | R27: 0.6 | S27: =ROUND(Q27*R27,-1) -> 140 | V27: 墙板生产线 | W27: 4 | X27: 闲置
A28: 23 | B28: 040039 | C28: 枪机 | D28: 贵州产投高科新型建筑建材科技有限责任公司 | E28: 4mmDS-2CD2THK35D-I3 | F28: 4mmDS-2CD2THK35D-I3 | G28: 2 | H28: 个 | I28: 电子设备 | J28: 2016-11-22 | K28: 36 | L28: 36 | M28: 756.76 | N28: 0 | O28: 718 | P28: 0.12773973 | Q28: =ROUND(O28*P28,-1) -> 90 | R28: 0.6 | S28: =ROUND(Q28*R28,-1) -> 50 | V28: 墙板生产线 | W28: 2 | X28: 闲置
A29: 24 | B29: 040040 | C29: 枪机 | D29: 贵州产投高科新型建筑建材科技有限责任公司 | E29: DS-2CD2THK35D-I3 | F29: DS-2CD2THK35D-I3 | G29: 1 | H29: 个 | I29: 电子设备 | J29: 2016-11-22 | K29: 36 | L29: 36 | M29: 378.38 | N29: 0 | O29: 359 | P29: 0.12773973 | Q29: =ROUND(O29*P29,-1) -> 50 | R29: 0.6 | S29: =ROUND(Q29*R29,-1) -> 30 | V29: 墙板生产线 | W29: 1 | X29: 闲置
A30: 25 | B30: 040041 | C30: 枪机 | D30: 贵州产投高科新型建筑建材科技有限责任公司 | E30: 6mmDS-2CD2THK35D-I3 | F30: 6mmDS-2CD2THK35D-I3 | G30: 2 | H30: 个 | I30: 电子设备 | J30: 2016-11-22 | K30: 36 | L30: 36 | M30: 756.76 | N30: 0 | O30: 718 | P30: 0.12773973 | Q30: =ROUND(O30*P30,-1) -> 90 | R30: 0.6 | S30: =ROUND(Q30*R30,-1) -> 50 | V30: 墙板生产线 | W30: 2 | X30: 闲置
A31: 26 | B31: 040042 | C31: 枪机 | D31: 贵州产投高科新型建筑建材科技有限责任公司 | E31: 12mmDS-2CD2THK35D-I3 | F31: 12mmDS-2CD2THK35D-I3 | G31: 6 | H31: 个 | I31: 电子设备 | J31: 2016-11-22 | K31: 36 | L31: 36 | M31: 3027.03 | N31: 0 | O31: 2154 | P31: 0.12773973 | Q31: =ROUND(O31*P31,-1) -> 280 | R31: 0.6 | S31: =ROUND(Q31*R31,-1) -> 170 | V31: 墙板生产线 | W31: 6 | X31: 闲置
A32: 27 | B32: 040043 | C32: 球机 | D32: 贵州产投高科新型建筑建材科技有限责任公司 | E32: DS-2DE7320HKIW-A300万像素，吊顶安装高12米 | F32: DS-2DE7320HKIW-A300万像素，吊顶安装高12米 | G32: 1 | H32: 个 | I32: 电子设备 | J32: 2016-11-22 | K32: 36 | L32: 36 | M32: 2522.52 | N32: 0 | O32: 450 | Q32: 450 | R32: 0.6 | S32: =ROUND(Q32*R32,-1) -> 270 | V32: 墙板生产线 | W32: 1 | X32: 闲置
A33: 28 | B33: 040044 | C33: 枪机电源适配器 | D33: 贵州产投高科新型建筑建材科技有限责任公司 | E33: DC12V室内型 | F33: DC12V室内型 | G33: 8 | H33: 个 | I33: 电子设备 | J33: 2016-11-22 | K33: 36 | L33: 36 | M33: 216.22 | N33: 0 | O33: 96 | P33: 0.12773973 | Q33: =ROUND(O33*P33,-1) -> 10 | R33: 0.6 | S33: =ROUND(Q33*R33,-1) -> 10 | V33: 墙板生产线 | W33: 8 | X33: 闲置
A34: 29 | B34: 040045 | C34: 枪机电源适配器 | D34: 贵州产投高科新型建筑建材科技有限责任公司 | E34: DC12V室外型 | F34: DC12V室外型 | G34: 4 | H34: 个 | I34: 电子设备 | J34: 2016-11-22 | K34: 36 | L34: 36 | M34: 108.11 | N34: 0 | O34: 48 | P34: 0.12773973 | Q34: =ROUND(O34*P34,-1) -> 10 | R34: 0.6 | S34: =ROUND(Q34*R34,-1) -> 10 | V34: 墙板生产线 | W34: 4 | X34: 闲置
A35: 30 | B35: 040046 | C35: 枪机支架 | D35: 贵州产投高科新型建筑建材科技有限责任公司 | E35: DS-1292ZJ（金属）长臂 | F35: DS-1292ZJ（金属）长臂 | G35: 9 | H35: 个 | I35: 电子设备 | J35: 2016-11-22 | K35: 36 | L35: 36 | M35: 243.24 | N35: 0 | O35: 387 | P35: 0.12773973 | Q35: =ROUND(O35*P35,-1) -> 50 | R35: 0.6 | S35: =ROUND(Q35*R35,-1) -> 30 | V35: 墙板生产线 | W35: 9 | X35: 闲置
A36: 31 | B36: 040047 | C36: 枪机支架 | D36: 贵州产投高科新型建筑建材科技有限责任公司 | E36: 抱箍式 | F36: 抱箍式 | G36: 2 | H36: 个 | I36: 电子设备 | J36: 2016-11-22 | K36: 36 | L36: 36 | M36: 90.09 | N36: 0 | O36: 86 | P36: 0.12773973 | Q36: =ROUND(O36*P36,-1) -> 10 | R36: 0.6 | S36: =ROUND(Q36*R36,-1) -> 10 | V36: 墙板生产线 | W36: 2 | X36: 闲置
A37: 32 | B37: 040048 | C37: 球机支架 | D37: 贵州产投高科新型建筑建材科技有限责任公司 | E37: DS-1662ZJ吊顶式 | F37: DS-1662ZJ吊顶式 | G37: 1 | H37: 个 | I37: 电子设备 | J37: 2016-11-22 | K37: 36 | L37: 36 | M37: 90.09 | N37: 0 | O37: 43 | P37: 0.12773973 | Q37: =ROUND(O37*P37,-1) -> 10 | R37: 0.6 | S37: =ROUND(Q37*R37,-1) -> 10 | V37: 墙板生产线 | W37: 1 | X37: 闲置
A38: 33 | B38: 040049 | C38: 多用插座 | D38: 贵州产投高科新型建筑建材科技有限责任公司 | E38: 3*4公牛12孔 | F38: 3*4公牛12孔 | G38: 3 | H38: 个 | I38: 电子设备 | J38: 2016-11-22 | K38: 36 | L38: 36 | M38: 162.16 | N38: 0 | O38: 120 | P38: 0.12773973 | Q38: =ROUND(O38*P38,-1) -> 20 | R38: 0.6 | S38: =ROUND(Q38*R38,-1) -> 10 | V38: 墙板生产线 | W38: 3 | X38: 闲置
A39: 34 | B39: 040050 | C39: 多用插座 | D39: 贵州产投高科新型建筑建材科技有限责任公司 | E39: 3*6公牛18孔 | F39: 3*6公牛18孔 | G39: 1 | H39: 个 | I39: 电子设备 | J39: 2016-11-22 | K39: 36 | L39: 36 | M39: 63.06 | N39: 0 | O39: 50 | P39: 0.12773973 | Q39: =ROUND(O39*P39,-1) -> 10 | R39: 0.6 | S39: =ROUND(Q39*R39,-1) -> 10 | V39: 墙板生产线 | W39: 1 | X39: 闲置
A40: 35 | B40: 040051 | C40: 收发器 | D40: 贵州产投高科新型建筑建材科技有限责任公司 | E40: 单芯ST-SC100M | F40: 单芯ST-SC100M | G40: 6 | H40: 个 | I40: 电子设备 | J40: 2016-11-22 | K40: 36 | L40: 36 | M40: 2594.59 | N40: 0 | O40: 2352 | P40: 0.12773973 | Q40: =ROUND(O40*P40,-1) -> 300 | R40: 0.6 | S40: =ROUND(Q40*R40,-1) -> 180 | V40: 墙板生产线 | W40: 6 | X40: 闲置
...

Sheet 无形资产
A1: 无形资产评估明细表
I2: 评估基准日：2023年11月13日 | K2: 评估基准日：2023年11月13日
A3: 产权持有人：贵州产投高科新型建筑建材科技有限责任公司 | Q3: 人民币：元
A4: 序号 | B4: 类别 | C4: 注册号 | D4: 商标 | E4: 申请日期 | F4: 专用权期限 | G4: 使用月限 | H4: 已计提期数 | I4: 账面价值 | K4: 商标类型 | L4: 评估价值 | M4: 变现率 | N4: 清算价值 | O4: 增减值 | P4: 增值率 | Q4: 备注
I5: 原值 | J5: 净值
A6: 1 | B6: 19 | C6: 29702112 | E6: 2018-3-20 | F6: 2019年1月28日至2029年1月27日 | G6: 240 | H6: 84 | I6: 36410.26 | J6: 11687.71 | K6: 一般 | L6: 1100 | M6: 0.6 | N6: =ROUND(L6*M6,-2) -> 700 | Q6: 注册商标
A7: 2 | B7: 42 | C7: 23832709 | E7: 2017-4-27 | F7: 2018年4月21日至2028年4月20日 | G7: 120 | H7: 82 | I7: 7029540 | J7: 2370126.6 | K7: 一般 | L7: 3200 | M7: 0.6 | N7: =ROUND(L7*M7,-2) -> 1900 | Q7: 注册商标撤销/无效宣告申请审查中，经与委托人沟通，本次按商标有效状态确认评估。
A8: 3 | B8: 19 | C8: 23832620 | E8: 2017-4-27 | F8: 2018年9月21日至2028年9月20日 | G8: 60 | H8: 60 | I8: 177012 | J8: 5310.36 | K8: 一般 | Q8: 注册商标
A9: 合 计 | I9: =SUM(I6:I8) -> 7242962.3 | J9: =SUM(J6:J8) -> 2387124.7 | N9: =SUM(N6:N8) -> 2600
A10: 填表人：冯军 | I10: 评估人员：康永军、张力、张黎、高攀、吴培 | M10: 评估人员：康永军、张力、张黎、高攀、吴培
A11: 填表日期：2024-4-8
